BEGIN:VCALENDAR
VERSION:2.0
PRODID:-//Grand Bend Motorplex - ECPv6.5.1.5//NONSGML v1.0//EN
CALSCALE:GREGORIAN
METHOD:PUBLISH
X-WR-CALNAME:Grand Bend Motorplex
X-ORIGINAL-URL:https://grandbendmotorplex.com
X-WR-CALDESC:Events for Grand Bend Motorplex
REFRESH-INTERVAL;VALUE=DURATION:PT1H
X-Robots-Tag:noindex
X-PUBLISHED-TTL:PT1H
BEGIN:VTIMEZONE
TZID:UTC
BEGIN:STANDARD
TZOFFSETFROM:+0000
TZOFFSETTO:+0000
TZNAME:UTC
DTSTART:20250101T000000
END:STANDARD
END:VTIMEZONE
BEGIN:VEVENT
DTSTART;TZID=UTC:20250503T100000
DTEND;TZID=UTC:20250503T170000
DTSTAMP:20260420T152955
CREATED:20250107T182046Z
LAST-MODIFIED:20250326T131919Z
UID:10000540-1746266400-1746291600@grandbendmotorplex.com
SUMMARY:Dragway Opening Day Test & Tune
DESCRIPTION:Opening day of the 2025 GBM Dragway season. Test & Tune open to all Race and Street Cars & Bikes. Get your car dialed in before the race season starts !
URL:https://grandbendmotorplex.com/event/opening-day-test-tune/
CATEGORIES:Dragway
END:VEVENT
BEGIN:VEVENT
DTSTART;TZID=UTC:20250503T100000
DTEND;TZID=UTC:20250503T180000
DTSTAMP:20260420T152955
CREATED:20241216T200019Z
LAST-MODIFIED:20250506T143027Z
UID:10000430-1746266400-1746295200@grandbendmotorplex.com
SUMMARY:KSR  Motorcycle Track day on the road course (Cancelled due to weather)
DESCRIPTION:  \nKW Sport Racing –  Opening day of Motorcycle lapping (Modified layout)  10am-6pm kwsportracing.ca
URL:https://grandbendmotorplex.com/event/opening-day-test-tune-ksr-motorcycle-track-day-on-the-road-course/
CATEGORIES:Raceway
END:VEVENT
END:VCALENDAR