BEGIN:VCALENDAR
VERSION:2.0
PRODID:-//Grand Bend Motorplex - ECPv6.5.1.5//NONSGML v1.0//EN
CALSCALE:GREGORIAN
METHOD:PUBLISH
X-WR-CALNAME:Grand Bend Motorplex
X-ORIGINAL-URL:https://grandbendmotorplex.com
X-WR-CALDESC:Events for Grand Bend Motorplex
REFRESH-INTERVAL;VALUE=DURATION:PT1H
X-Robots-Tag:noindex
X-PUBLISHED-TTL:PT1H
BEGIN:VTIMEZONE
TZID:UTC
BEGIN:STANDARD
TZOFFSETFROM:+0000
TZOFFSETTO:+0000
TZNAME:UTC
DTSTART:20250101T000000
END:STANDARD
END:VTIMEZONE
BEGIN:VEVENT
DTSTART;VALUE=DATE:20250504
DTEND;VALUE=DATE:20250505
DTSTAMP:20260420T153536
CREATED:20250326T214058Z
LAST-MODIFIED:20250326T214615Z
UID:10000637-1746316800-1746403199@grandbendmotorplex.com
SUMMARY:Dragway Rental available
DESCRIPTION:See pricing for Dragway rentals on the Dragway dropdown under Dragway Pricing.
URL:https://grandbendmotorplex.com/event/dragway-rental-available/2025-05-04/
CATEGORIES:Dragway
END:VEVENT
BEGIN:VEVENT
DTSTART;TZID=UTC:20250504T090000
DTEND;TZID=UTC:20250504T170000
DTSTAMP:20260420T153536
CREATED:20241219T195346Z
LAST-MODIFIED:20250206T184219Z
UID:10000539-1746349200-1746378000@grandbendmotorplex.com
SUMMARY:Falcon Motorsports Track Day
DESCRIPTION:Falcon Motorsports will be onsite Sun May 4th to join this date contact falconmotorsports.com
URL:https://grandbendmotorplex.com/event/falcon-motorsports-track-day/
CATEGORIES:Raceway
END:VEVENT
END:VCALENDAR