BEGIN:VCALENDAR
VERSION:2.0
PRODID:-//Grand Bend Motorplex - ECPv6.5.1.5//NONSGML v1.0//EN
CALSCALE:GREGORIAN
METHOD:PUBLISH
X-WR-CALNAME:Grand Bend Motorplex
X-ORIGINAL-URL:https://grandbendmotorplex.com
X-WR-CALDESC:Events for Grand Bend Motorplex
REFRESH-INTERVAL;VALUE=DURATION:PT1H
X-Robots-Tag:noindex
X-PUBLISHED-TTL:PT1H
BEGIN:VTIMEZONE
TZID:UTC
BEGIN:STANDARD
TZOFFSETFROM:+0000
TZOFFSETTO:+0000
TZNAME:UTC
DTSTART:20250101T000000
END:STANDARD
END:VTIMEZONE
BEGIN:VEVENT
DTSTART;TZID=UTC:20250515T080000
DTEND;TZID=UTC:20250515T170000
DTSTAMP:20260420T152955
CREATED:20241217T195152Z
LAST-MODIFIED:20250120T152439Z
UID:10000503-1747296000-1747328400@grandbendmotorplex.com
SUMMARY:Davies Group Road course rental
DESCRIPTION:Davies group on the road course 9am-5pm
URL:https://grandbendmotorplex.com/event/davies-group-road-course-rental/
CATEGORIES:Raceway
END:VEVENT
BEGIN:VEVENT
DTSTART;TZID=UTC:20250515T120000
DTEND;TZID=UTC:20250516T160000
DTSTAMP:20260420T152955
CREATED:20250326T204634Z
LAST-MODIFIED:20250326T205200Z
UID:10000633-1747310400-1747411200@grandbendmotorplex.com
SUMMARY:Andrew Stirk Drag Rental
DESCRIPTION:Andrew is renting the dragstrip on Thursday May 15th 12pm-5pm one lane 1/8th mile prep and Friday May 16th 11am-4pm two lanes 1/8th mile prep. Has room for 20 cars  for each day. If interested in joining this rental contact andrew.w.stirk@gmail.com \nOur Friday night T&T from 6-10pm will follow on Friday.
URL:https://grandbendmotorplex.com/event/andrew-stirk-drag-rental/
CATEGORIES:Dragway
END:VEVENT
END:VCALENDAR