BEGIN:VCALENDAR
VERSION:2.0
PRODID:-//Grand Bend Motorplex - ECPv6.5.1.5//NONSGML v1.0//EN
CALSCALE:GREGORIAN
METHOD:PUBLISH
X-WR-CALNAME:Grand Bend Motorplex
X-ORIGINAL-URL:https://grandbendmotorplex.com
X-WR-CALDESC:Events for Grand Bend Motorplex
REFRESH-INTERVAL;VALUE=DURATION:PT1H
X-Robots-Tag:noindex
X-PUBLISHED-TTL:PT1H
BEGIN:VTIMEZONE
TZID:UTC
BEGIN:STANDARD
TZOFFSETFROM:+0000
TZOFFSETTO:+0000
TZNAME:UTC
DTSTART:20250101T000000
END:STANDARD
END:VTIMEZONE
BEGIN:VEVENT
DTSTART;TZID=UTC:20250515T120000
DTEND;TZID=UTC:20250516T160000
DTSTAMP:20260420T153550
CREATED:20250326T204634Z
LAST-MODIFIED:20250326T205200Z
UID:10000633-1747310400-1747411200@grandbendmotorplex.com
SUMMARY:Andrew Stirk Drag Rental
DESCRIPTION:Andrew is renting the dragstrip on Thursday May 15th 12pm-5pm one lane 1/8th mile prep and Friday May 16th 11am-4pm two lanes 1/8th mile prep. Has room for 20 cars  for each day. If interested in joining this rental contact andrew.w.stirk@gmail.com \nOur Friday night T&T from 6-10pm will follow on Friday.
URL:https://grandbendmotorplex.com/event/andrew-stirk-drag-rental/
CATEGORIES:Dragway
END:VEVENT
BEGIN:VEVENT
DTSTART;VALUE=DATE:20250516
DTEND;VALUE=DATE:20250519
DTSTAMP:20260420T153550
CREATED:20241217T222218Z
LAST-MODIFIED:20250120T152512Z
UID:10000522-1747353600-1747612799@grandbendmotorplex.com
SUMMARY:Racer 5 Motorcycle Development School
DESCRIPTION:Racer 5 is a Professional Rider Development Company that can help improve your riding skills from beginner to expert. They run 3 day programs Friday to Sunday. Go to racer5.ca for all the details
URL:https://grandbendmotorplex.com/event/racer-5-motorcycle-development-school/
CATEGORIES:Raceway
END:VEVENT
BEGIN:VEVENT
DTSTART;TZID=UTC:20250516T180000
DTEND;TZID=UTC:20250516T220000
DTSTAMP:20260420T153550
CREATED:20241216T212110Z
LAST-MODIFIED:20250407T153621Z
UID:10000481-1747418400-1747432800@grandbendmotorplex.com
SUMMARY:Friday Test & Tune 6-10pm open to both street and race cars.
DESCRIPTION:Friday night Test & Tune 6pm-10pm for as many laps as you make in that time frame. You will get timeslips of your runs and you can grudge race your buddies\, etc. Cost is $40 for Car & Driver\, $15 Adults\, $5 kids 6-15 to spectate (5 and under Free)
URL:https://grandbendmotorplex.com/event/friday-test-tune-6-10pm-open-to-both-street-and-race-cars/2025-05-16/
CATEGORIES:Dragway
END:VEVENT
END:VCALENDAR