BEGIN:VCALENDAR
VERSION:2.0
PRODID:-//Grand Bend Motorplex - ECPv6.5.1.5//NONSGML v1.0//EN
CALSCALE:GREGORIAN
METHOD:PUBLISH
X-WR-CALNAME:Grand Bend Motorplex
X-ORIGINAL-URL:https://grandbendmotorplex.com
X-WR-CALDESC:Events for Grand Bend Motorplex
REFRESH-INTERVAL;VALUE=DURATION:PT1H
X-Robots-Tag:noindex
X-PUBLISHED-TTL:PT1H
BEGIN:VTIMEZONE
TZID:UTC
BEGIN:STANDARD
TZOFFSETFROM:+0000
TZOFFSETTO:+0000
TZNAME:UTC
DTSTART:20250101T000000
END:STANDARD
END:VTIMEZONE
BEGIN:VEVENT
DTSTART;TZID=UTC:20250523T080000
DTEND;TZID=UTC:20250525T170000
DTSTAMP:20260420T153549
CREATED:20241216T214254Z
LAST-MODIFIED:20250120T153107Z
UID:10000488-1747987200-1748192400@grandbendmotorplex.com
SUMMARY:SOAR Motorcycle race series wkd
DESCRIPTION:ROUND #1 of Ontario’s premier and fastest growing Motorcycle race series. . Friday Practice\, Saturday & Sunday races. Go to soarracing.ca for all the details and to join up. \n 
URL:https://grandbendmotorplex.com/event/soar-motorcycle-race-wkd/
CATEGORIES:Raceway
END:VEVENT
END:VCALENDAR