BEGIN:VCALENDAR
VERSION:2.0
PRODID:-//Grand Bend Motorplex - ECPv6.5.1.5//NONSGML v1.0//EN
CALSCALE:GREGORIAN
METHOD:PUBLISH
X-WR-CALNAME:Grand Bend Motorplex
X-ORIGINAL-URL:https://grandbendmotorplex.com
X-WR-CALDESC:Events for Grand Bend Motorplex
REFRESH-INTERVAL;VALUE=DURATION:PT1H
X-Robots-Tag:noindex
X-PUBLISHED-TTL:PT1H
BEGIN:VTIMEZONE
TZID:UTC
BEGIN:STANDARD
TZOFFSETFROM:+0000
TZOFFSETTO:+0000
TZNAME:UTC
DTSTART:20250101T000000
END:STANDARD
END:VTIMEZONE
BEGIN:VEVENT
DTSTART;TZID=UTC:20250530T090000
DTEND;TZID=UTC:20250530T160000
DTSTAMP:20260420T140514
CREATED:20250113T153603Z
LAST-MODIFIED:20250213T175928Z
UID:10000555-1748595600-1748620800@grandbendmotorplex.com
SUMMARY:J Cars Inc  track rental
DESCRIPTION:J Car track rental
URL:https://grandbendmotorplex.com/event/available-7/
CATEGORIES:Raceway
END:VEVENT
BEGIN:VEVENT
DTSTART;TZID=UTC:20250530T180000
DTEND;TZID=UTC:20250530T220000
DTSTAMP:20260420T140514
CREATED:20241216T212135Z
LAST-MODIFIED:20250120T153317Z
UID:10000482-1748628000-1748642400@grandbendmotorplex.com
SUMMARY:Friday Test & Tune 6-10pm open to both street and race cars.
DESCRIPTION:Friday night Test & Tune 6pm-10pm for as many laps as you make in that time frame. You will get timeslips of your runs and you can grudge race your buddies\, etc. Cost is $40 for Car & Driver\, $15 Adults\, $5 kids 6-15 to spectate (5 and under Free)
URL:https://grandbendmotorplex.com/event/friday-test-tune-6-10pm-open-to-both-street-and-race-cars-2/
CATEGORIES:Dragway
END:VEVENT
END:VCALENDAR