BEGIN:VCALENDAR
VERSION:2.0
PRODID:-//Grand Bend Motorplex - ECPv6.5.1.5//NONSGML v1.0//EN
CALSCALE:GREGORIAN
METHOD:PUBLISH
X-WR-CALNAME:Grand Bend Motorplex
X-ORIGINAL-URL:https://grandbendmotorplex.com
X-WR-CALDESC:Events for Grand Bend Motorplex
REFRESH-INTERVAL;VALUE=DURATION:PT1H
X-Robots-Tag:noindex
X-PUBLISHED-TTL:PT1H
BEGIN:VTIMEZONE
TZID:UTC
BEGIN:STANDARD
TZOFFSETFROM:+0000
TZOFFSETTO:+0000
TZNAME:UTC
DTSTART:20250101T000000
END:STANDARD
END:VTIMEZONE
BEGIN:VEVENT
DTSTART;TZID=UTC:20250531T080000
DTEND;TZID=UTC:20250601T170000
DTSTAMP:20260420T141609
CREATED:20241216T221159Z
LAST-MODIFIED:20250401T190429Z
UID:10000495-1748678400-1748797200@grandbendmotorplex.com
SUMMARY:Maple City Tire & Fox's Autosound present the GBM Thunder series points wkd races 3 & 4\, plus Extreme 32\, Open Comp & Can Am Stock/Super Stock
DESCRIPTION:Thunder series classes –  (Top ET\, Mod ET\, Bike/Sled\, Sportsman\, Junior Advanced & Development ) plus Extreme 32 and Open Comp programs. Additionally we have the Can Am Stock/Super Stock series this weekend. \nSaturday races 10am start  Sunday races 9:30am start.
URL:https://grandbendmotorplex.com/event/gbm-thunder-series-points-wkd-races-3-4-plus-extreme-32-open-comp-can-am-stock-super-stock/
CATEGORIES:Dragway,Raceway
END:VEVENT
END:VCALENDAR