BEGIN:VCALENDAR
VERSION:2.0
PRODID:-//Grand Bend Motorplex - ECPv6.5.1.5//NONSGML v1.0//EN
CALSCALE:GREGORIAN
METHOD:PUBLISH
X-WR-CALNAME:Grand Bend Motorplex
X-ORIGINAL-URL:https://grandbendmotorplex.com
X-WR-CALDESC:Events for Grand Bend Motorplex
REFRESH-INTERVAL;VALUE=DURATION:PT1H
X-Robots-Tag:noindex
X-PUBLISHED-TTL:PT1H
BEGIN:VTIMEZONE
TZID:UTC
BEGIN:STANDARD
TZOFFSETFROM:+0000
TZOFFSETTO:+0000
TZNAME:UTC
DTSTART:20240101T000000
END:STANDARD
END:VTIMEZONE
BEGIN:VEVENT
DTSTART;VALUE=DATE:20240830
DTEND;VALUE=DATE:20240831
DTSTAMP:20260421T081317
CREATED:20240614T170532Z
LAST-MODIFIED:20240614T170532Z
UID:10000370-1724976000-1725062399@grandbendmotorplex.com
SUMMARY:Fri Aug 30th – N/A
DESCRIPTION:
URL:https://grandbendmotorplex.com/event/fri-aug-30th-n-a/
CATEGORIES:August,Event,Raceway
END:VEVENT
BEGIN:VEVENT
DTSTART;TZID=UTC:20240829T090000
DTEND;TZID=UTC:20240829T170000
DTSTAMP:20260421T081317
CREATED:20240614T170455Z
LAST-MODIFIED:20240614T170455Z
UID:10000369-1724922000-1724950800@grandbendmotorplex.com
SUMMARY:Thurs Aug 29th  – Mike Davies 9am-5pm
DESCRIPTION:
URL:https://grandbendmotorplex.com/event/thurs-aug-29th-mike-davies-9am-5pm/
CATEGORIES:August,Event,Raceway
END:VEVENT
BEGIN:VEVENT
DTSTART;VALUE=DATE:20240828
DTEND;VALUE=DATE:20240829
DTSTAMP:20260421T081317
CREATED:20240614T170408Z
LAST-MODIFIED:20240614T170408Z
UID:10000368-1724803200-1724889599@grandbendmotorplex.com
SUMMARY:Wed Aug 28th  – 9am-3:30pm Available\, Hully Gully “Two Wheel Wednesday” evening Bike lapping 4-8pm
DESCRIPTION:
URL:https://grandbendmotorplex.com/event/wed-aug-28th-9am-330pm-available-hully-gully-two-wheel-wednesday-evening-bike-lapping-4-8pm/
CATEGORIES:August,Event,Raceway
END:VEVENT
BEGIN:VEVENT
DTSTART;VALUE=DATE:20240827
DTEND;VALUE=DATE:20240828
DTSTAMP:20260421T081317
CREATED:20240614T170333Z
LAST-MODIFIED:20240614T170333Z
UID:10000367-1724716800-1724803199@grandbendmotorplex.com
SUMMARY:Tues Aug 27th –  9am-4:30pm D Webber\, GRK Karting 4:30-6:30pm
DESCRIPTION:
URL:https://grandbendmotorplex.com/event/tues-aug-27th-9am-430pm-d-webber-grk-karting-430-630pm/
CATEGORIES:August,Event,Raceway
END:VEVENT
BEGIN:VEVENT
DTSTART;VALUE=DATE:20240826
DTEND;VALUE=DATE:20240827
DTSTAMP:20260421T081317
CREATED:20240614T170301Z
LAST-MODIFIED:20240614T170301Z
UID:10000366-1724630400-1724716799@grandbendmotorplex.com
SUMMARY:Mon Aug 26th – KSR Motorcycle Lapping day 10am-6pm
DESCRIPTION:
URL:https://grandbendmotorplex.com/event/mon-aug-26th-ksr-motorcycle-lapping-day-10am-6pm/
CATEGORIES:August,Event,Raceway
END:VEVENT
BEGIN:VEVENT
DTSTART;VALUE=DATE:20240824
DTEND;VALUE=DATE:20240826
DTSTAMP:20260421T081317
CREATED:20240614T170224Z
LAST-MODIFIED:20240614T170224Z
UID:10000365-1724457600-1724630399@grandbendmotorplex.com
SUMMARY:Sat/Sun Aug 24th/25th – SOAR Motorcycle Race Series race #4 (Long Track Layout)
DESCRIPTION:
URL:https://grandbendmotorplex.com/event/sat-sun-aug-24th-25th-soar-motorcycle-race-series-race-4-long-track-layout/
CATEGORIES:August,Event,Raceway
END:VEVENT
BEGIN:VEVENT
DTSTART;VALUE=DATE:20240823
DTEND;VALUE=DATE:20240824
DTSTAMP:20260421T081317
CREATED:20240614T170141Z
LAST-MODIFIED:20240614T170141Z
UID:10000364-1724371200-1724457599@grandbendmotorplex.com
SUMMARY:Fri Aug 23rd –  SOAR Race practice day
DESCRIPTION:
URL:https://grandbendmotorplex.com/event/fri-aug-23rd-soar-race-practice-day/
CATEGORIES:August,Event,Raceway
END:VEVENT
BEGIN:VEVENT
DTSTART;TZID=UTC:20240822T090000
DTEND;TZID=UTC:20240822T170000
DTSTAMP:20260421T081317
CREATED:20240614T170057Z
LAST-MODIFIED:20240614T170057Z
UID:10000363-1724317200-1724346000@grandbendmotorplex.com
SUMMARY:Thurs Aug 22nd -SOAR Staff day 9am-5pm
DESCRIPTION:
URL:https://grandbendmotorplex.com/event/thurs-aug-22nd-soar-staff-day-9am-5pm/
CATEGORIES:August,Event,Raceway
END:VEVENT
BEGIN:VEVENT
DTSTART;VALUE=DATE:20240821
DTEND;VALUE=DATE:20240822
DTSTAMP:20260421T081317
CREATED:20240614T165954Z
LAST-MODIFIED:20240614T165954Z
UID:10000362-1724198400-1724284799@grandbendmotorplex.com
SUMMARY:Wed Aug 21st 9am-4pm Available.\, Whitelaw Automotive Wednesday Evening Car Lapping 4:30-8:30pm
DESCRIPTION:
URL:https://grandbendmotorplex.com/event/wed-aug-21st-9am-4pm-available-whitelaw-automotive-wednesday-evening-car-lapping-430-830pm/
CATEGORIES:August,Event,Raceway
END:VEVENT
BEGIN:VEVENT
DTSTART;TZID=UTC:20240820T080000
DTEND;TZID=UTC:20240820T170000
DTSTAMP:20260421T081317
CREATED:20240614T165905Z
LAST-MODIFIED:20240614T165905Z
UID:10000361-1724140800-1724173200@grandbendmotorplex.com
SUMMARY:Tues Aug 20th – 9am-4:30pm Available\, GRK Karting 4:30-6:30pm
DESCRIPTION:
URL:https://grandbendmotorplex.com/event/tues-aug-20th-9am-430pm-available-grk-karting-430-630pm/
CATEGORIES:August,Event,Raceway
END:VEVENT
BEGIN:VEVENT
DTSTART;VALUE=DATE:20240819
DTEND;VALUE=DATE:20240820
DTSTAMP:20260421T081317
CREATED:20240614T165759Z
LAST-MODIFIED:20240614T165759Z
UID:10000360-1724025600-1724111999@grandbendmotorplex.com
SUMMARY:Mon Aug 19th – KSR Motorcycle Lapping Day
DESCRIPTION:
URL:https://grandbendmotorplex.com/event/mon-aug-19th-ksr-motorcycle-lapping-day/
CATEGORIES:August,Event,Raceway
END:VEVENT
BEGIN:VEVENT
DTSTART;VALUE=DATE:20240817
DTEND;VALUE=DATE:20240819
DTSTAMP:20260421T081317
CREATED:20240614T165555Z
LAST-MODIFIED:20240614T165555Z
UID:10000359-1723852800-1724025599@grandbendmotorplex.com
SUMMARY:Sat/Sun Aug 17th/18th  – GTA EXOTICS –  exotic car lapping days (see bottom of page for registration)
DESCRIPTION:
URL:https://grandbendmotorplex.com/event/sat-sun-aug-17th-18th-gta-exotics-exotic-car-lapping-days-see-bottom-of-page-for-registration/
CATEGORIES:August,Event,Raceway
END:VEVENT
BEGIN:VEVENT
DTSTART;TZID=UTC:20240816T090000
DTEND;TZID=UTC:20240816T170000
DTSTAMP:20260421T081317
CREATED:20240614T165506Z
LAST-MODIFIED:20240614T165506Z
UID:10000358-1723798800-1723827600@grandbendmotorplex.com
SUMMARY:Fri Aug 16th – Falcon Motorsports 9am-5pm (modified track)
DESCRIPTION:
URL:https://grandbendmotorplex.com/event/fri-aug-16th-falcon-motorsports-9am-5pm-modified-track/
CATEGORIES:August,Event,Raceway
END:VEVENT
BEGIN:VEVENT
DTSTART;VALUE=DATE:20240815
DTEND;VALUE=DATE:20240816
DTSTAMP:20260421T081317
CREATED:20240614T165420Z
LAST-MODIFIED:20240614T165420Z
UID:10000357-1723680000-1723766399@grandbendmotorplex.com
SUMMARY:Thurs Aug 15th –  RIDE42 Motorcycle day
DESCRIPTION:
URL:https://grandbendmotorplex.com/event/thurs-aug-15th-ride42-motorcycle-day/
CATEGORIES:August,Event,Raceway
END:VEVENT
BEGIN:VEVENT
DTSTART;VALUE=DATE:20240814
DTEND;VALUE=DATE:20240815
DTSTAMP:20260421T081317
CREATED:20240614T165332Z
LAST-MODIFIED:20240614T165332Z
UID:10000356-1723593600-1723679999@grandbendmotorplex.com
SUMMARY:Wed Aug 14th 9am-4pm Mike K rental\, Whitelaw Automotive Wednesday Evening Car Lapping 4:30-8:30pm
DESCRIPTION:
URL:https://grandbendmotorplex.com/event/wed-aug-14th-9am-4pm-mike-k-rental-whitelaw-automotive-wednesday-evening-car-lapping-430-830pm/
CATEGORIES:August,Event,Raceway
END:VEVENT
BEGIN:VEVENT
DTSTART;VALUE=DATE:20240813
DTEND;VALUE=DATE:20240814
DTSTAMP:20260421T081317
CREATED:20240614T165229Z
LAST-MODIFIED:20240614T165229Z
UID:10000355-1723507200-1723593599@grandbendmotorplex.com
SUMMARY:Tues Aug 13th  –  Available 9am-5pm\, GRK Karting 5:30-7:30pm
DESCRIPTION:
URL:https://grandbendmotorplex.com/event/tues-aug-13th-available-9am-5pm-grk-karting-530-730pm/
CATEGORIES:August,Event,Raceway
END:VEVENT
BEGIN:VEVENT
DTSTART;TZID=UTC:20240812T100000
DTEND;TZID=UTC:20240812T180000
DTSTAMP:20260421T081317
CREATED:20240614T165146Z
LAST-MODIFIED:20240614T165146Z
UID:10000354-1723456800-1723485600@grandbendmotorplex.com
SUMMARY:Mon Aug 12th – KSR Motorcycle Lapping Day 10am-6pm
DESCRIPTION:
URL:https://grandbendmotorplex.com/event/mon-aug-12th-ksr-motorcycle-lapping-day-10am-6pm/
CATEGORIES:August,Event,Raceway
END:VEVENT
BEGIN:VEVENT
DTSTART;VALUE=DATE:20240809
DTEND;VALUE=DATE:20240812
DTSTAMP:20260421T081317
CREATED:20240614T165103Z
LAST-MODIFIED:20240614T165103Z
UID:10000353-1723161600-1723420799@grandbendmotorplex.com
SUMMARY:Fri-Sun Aug 9-11th –  NOT AVAILABLE ( Windsor Wkd on the dragstrip)
DESCRIPTION:
URL:https://grandbendmotorplex.com/event/fri-sun-aug-9-11th-not-available-windsor-wkd-on-the-dragstrip/
CATEGORIES:August,Event,Raceway
END:VEVENT
BEGIN:VEVENT
DTSTART;TZID=UTC:20240808T090000
DTEND;TZID=UTC:20240808T170000
DTSTAMP:20260421T081317
CREATED:20240614T165002Z
LAST-MODIFIED:20240614T165002Z
UID:10000352-1723107600-1723136400@grandbendmotorplex.com
SUMMARY:Thurs Aug 8th –  M Davies group 9am-5pm
DESCRIPTION:
URL:https://grandbendmotorplex.com/event/thurs-aug-8th-m-davies-group-9am-5pm/
CATEGORIES:August,Event,Raceway
END:VEVENT
BEGIN:VEVENT
DTSTART;VALUE=DATE:20240807
DTEND;VALUE=DATE:20240808
DTSTAMP:20260421T081317
CREATED:20240614T164854Z
LAST-MODIFIED:20240614T164854Z
UID:10000351-1722988800-1723075199@grandbendmotorplex.com
SUMMARY:Wed Aug 7th 9am-4pm D Webber\, Hully Gully “Two Wheel Wednesday” Evening Bike Lapping 4:30-8:30pm
DESCRIPTION:
URL:https://grandbendmotorplex.com/event/wed-aug-7th-9am-4pm-d-webber-hully-gully-two-wheel-wednesday-evening-bike-lapping-430-830pm/
CATEGORIES:August,Event,Raceway
END:VEVENT
BEGIN:VEVENT
DTSTART;VALUE=DATE:20240806
DTEND;VALUE=DATE:20240807
DTSTAMP:20260421T081317
CREATED:20240614T164622Z
LAST-MODIFIED:20240614T164622Z
UID:10000350-1722902400-1722988799@grandbendmotorplex.com
SUMMARY:Tues Aug 6th – 9am-4:30pm Available\, GRK Karting 4:30-6:30pm
DESCRIPTION:
URL:https://grandbendmotorplex.com/event/tues-aug-6th-9am-430pm-available-grk-karting-430-630pm/
CATEGORIES:August,Event,Raceway
END:VEVENT
BEGIN:VEVENT
DTSTART;VALUE=DATE:20240805
DTEND;VALUE=DATE:20240806
DTSTAMP:20260421T081317
CREATED:20240614T164500Z
LAST-MODIFIED:20240614T164500Z
UID:10000349-1722816000-1722902399@grandbendmotorplex.com
SUMMARY:Mon Aug 5th –  N/A
DESCRIPTION:
URL:https://grandbendmotorplex.com/event/mon-aug-5th-n-a/
CATEGORIES:August,Event,Raceway
END:VEVENT
BEGIN:VEVENT
DTSTART;TZID=UTC:20240802T080000
DTEND;TZID=UTC:20240802T170000
DTSTAMP:20260421T081317
CREATED:20240614T164308Z
LAST-MODIFIED:20240614T164308Z
UID:10000348-1722585600-1722618000@grandbendmotorplex.com
SUMMARY:Fri – Sun Aug 2-4th –  CDN NATIONALS EVENT WKD on the dragstrip
DESCRIPTION:
URL:https://grandbendmotorplex.com/event/fri-sun-aug-2-4th-cdn-nationals-event-wkd-on-the-dragstrip/
CATEGORIES:August,Event,Raceway
END:VEVENT
BEGIN:VEVENT
DTSTART;VALUE=DATE:20240801
DTEND;VALUE=DATE:20240802
DTSTAMP:20260421T081317
CREATED:20240614T164214Z
LAST-MODIFIED:20240614T164214Z
UID:10000347-1722470400-1722556799@grandbendmotorplex.com
SUMMARY:Thurs Aug 1st – N/A
DESCRIPTION:
URL:https://grandbendmotorplex.com/event/thurs-aug-1st-n-a/
CATEGORIES:August,Event,Raceway
END:VEVENT
END:VCALENDAR