BEGIN:VCALENDAR
VERSION:2.0
PRODID:-//Grand Bend Motorplex - ECPv6.5.1.5//NONSGML v1.0//EN
CALSCALE:GREGORIAN
METHOD:PUBLISH
X-WR-CALNAME:Grand Bend Motorplex
X-ORIGINAL-URL:https://grandbendmotorplex.com
X-WR-CALDESC:Events for Grand Bend Motorplex
REFRESH-INTERVAL;VALUE=DURATION:PT1H
X-Robots-Tag:noindex
X-PUBLISHED-TTL:PT1H
BEGIN:VTIMEZONE
TZID:UTC
BEGIN:STANDARD
TZOFFSETFROM:+0000
TZOFFSETTO:+0000
TZNAME:UTC
DTSTART:20240101T000000
END:STANDARD
END:VTIMEZONE
BEGIN:VEVENT
DTSTART;TZID=UTC:20240704T090000
DTEND;TZID=UTC:20240704T170000
DTSTAMP:20260419T144224
CREATED:20240614T161740Z
LAST-MODIFIED:20240614T161740Z
UID:10000324-1720083600-1720112400@grandbendmotorplex.com
SUMMARY:Thurs July 4th – M Davies group 9am-5pm\,
DESCRIPTION:
URL:https://grandbendmotorplex.com/event/thurs-july-4th-m-davies-group-9am-5pm/
CATEGORIES:Event,July,June
END:VEVENT
END:VCALENDAR