BEGIN:VCALENDAR
VERSION:2.0
PRODID:-//Grand Bend Motorplex - ECPv6.5.1.5//NONSGML v1.0//EN
CALSCALE:GREGORIAN
METHOD:PUBLISH
X-ORIGINAL-URL:https://grandbendmotorplex.com
X-WR-CALDESC:Events for Grand Bend Motorplex
REFRESH-INTERVAL;VALUE=DURATION:PT1H
X-Robots-Tag:noindex
X-PUBLISHED-TTL:PT1H
BEGIN:VTIMEZONE
TZID:UTC
BEGIN:STANDARD
TZOFFSETFROM:+0000
TZOFFSETTO:+0000
TZNAME:UTC
DTSTART:20240101T000000
END:STANDARD
END:VTIMEZONE
BEGIN:VEVENT
DTSTART;TZID=UTC:20240708T100000
DTEND;TZID=UTC:20240708T180000
DTSTAMP:20260419T144607
CREATED:20240614T162056Z
LAST-MODIFIED:20240614T162056Z
UID:10000327-1720432800-1720461600@grandbendmotorplex.com
SUMMARY:Mon July 8th – KSR Motorcycle Lapping day 10am-6pm
DESCRIPTION:
URL:https://grandbendmotorplex.com/event/mon-july-8th-ksr-motorcycle-lapping-day-10am-6pm/
CATEGORIES:Event,July,Raceway
END:VEVENT
END:VCALENDAR