BEGIN:VCALENDAR
VERSION:2.0
PRODID:-//Grand Bend Motorplex - ECPv6.5.1.5//NONSGML v1.0//EN
CALSCALE:GREGORIAN
METHOD:PUBLISH
X-ORIGINAL-URL:https://grandbendmotorplex.com
X-WR-CALDESC:Events for Grand Bend Motorplex
REFRESH-INTERVAL;VALUE=DURATION:PT1H
X-Robots-Tag:noindex
X-PUBLISHED-TTL:PT1H
BEGIN:VTIMEZONE
TZID:UTC
BEGIN:STANDARD
TZOFFSETFROM:+0000
TZOFFSETTO:+0000
TZNAME:UTC
DTSTART:20240101T000000
END:STANDARD
END:VTIMEZONE
BEGIN:VEVENT
DTSTART;VALUE=DATE:20240712
DTEND;VALUE=DATE:20240715
DTSTAMP:20260419T144727
CREATED:20240614T162700Z
LAST-MODIFIED:20240614T162700Z
UID:10000331-1720742400-1721001599@grandbendmotorplex.com
SUMMARY:Fri – Sun July 12/14th –  Racer 5 Motorcycle Development Program
DESCRIPTION:
URL:https://grandbendmotorplex.com/event/fri-sun-july-12-14th-racer-5-motorcycle-development-program/
CATEGORIES:Event,July,Raceway
END:VEVENT
END:VCALENDAR