BEGIN:VCALENDAR
VERSION:2.0
PRODID:-//Grand Bend Motorplex - ECPv6.5.1.5//NONSGML v1.0//EN
CALSCALE:GREGORIAN
METHOD:PUBLISH
X-ORIGINAL-URL:https://grandbendmotorplex.com
X-WR-CALDESC:Events for Grand Bend Motorplex
REFRESH-INTERVAL;VALUE=DURATION:PT1H
X-Robots-Tag:noindex
X-PUBLISHED-TTL:PT1H
BEGIN:VTIMEZONE
TZID:UTC
BEGIN:STANDARD
TZOFFSETFROM:+0000
TZOFFSETTO:+0000
TZNAME:UTC
DTSTART:20260101T000000
END:STANDARD
END:VTIMEZONE
BEGIN:VEVENT
DTSTART;TZID=UTC:20260701T110000
DTEND;TZID=UTC:20260701T170000
DTSTAMP:20260420T213613
CREATED:20260112T213904Z
LAST-MODIFIED:20260112T213905Z
UID:10000666-1782903600-1782925200@grandbendmotorplex.com
SUMMARY:Whitelaw Automotive "Canada Day" Daytime Car lapping program
DESCRIPTION:Car Lapping 11am-5pm. (2nd of 3 Daytime programs offered by GBM) Three groups – beginner (green)\, intermediate (yellow)\, advanced (red). Limited to 14 spots per group. Reserve a spot online at gbmpresales.com or call track 519-238-7223
URL:https://grandbendmotorplex.com/event/whitelaw-automotive-wednesday-evening-car-lapping-8-3/
CATEGORIES:Raceway
END:VEVENT
BEGIN:VEVENT
DTSTART;TZID=UTC:20260702T090000
DTEND;TZID=UTC:20260702T170000
DTSTAMP:20260420T213613
CREATED:20260107T160524Z
LAST-MODIFIED:20260210T182224Z
UID:10000712-1782982800-1783011600@grandbendmotorplex.com
SUMMARY:Davies Group Road course rental
DESCRIPTION:Private Road course rental  9am-5pm
URL:https://grandbendmotorplex.com/event/davies-group-road-course-rental-10/
CATEGORIES:Raceway
END:VEVENT
BEGIN:VEVENT
DTSTART;TZID=UTC:20260703T080000
DTEND;TZID=UTC:20260703T170000
DTSTAMP:20260420T213613
CREATED:20260217T170357Z
LAST-MODIFIED:20260217T170357Z
UID:10000853-1783065600-1783098000@grandbendmotorplex.com
SUMMARY:Serious Casual Motorsports
DESCRIPTION:Road course Motorcycle rental
URL:https://grandbendmotorplex.com/event/serious-casual-motorsports/
CATEGORIES:Raceway
END:VEVENT
BEGIN:VEVENT
DTSTART;VALUE=DATE:20260704
DTEND;VALUE=DATE:20260706
DTSTAMP:20260420T213613
CREATED:20260112T221849Z
LAST-MODIFIED:20260224T202050Z
UID:10000758-1783123200-1783295999@grandbendmotorplex.com
SUMMARY:Euro Klassik (formerly Berlin)
DESCRIPTION:Euro Klassik is the premier Euro Car event in Ontario includes a Huge Car Show\, Drag Racing Test & Tune\, Road Course lapping\, Drifting exhibitions\, Music\, Food Trucks and so much more. \nAdditional information will be added here in the near future
URL:https://grandbendmotorplex.com/event/euro-klassik-formerly-berlin/
CATEGORIES:Dragway,Raceway
END:VEVENT
BEGIN:VEVENT
DTSTART;TZID=UTC:20260706T100000
DTEND;TZID=UTC:20260706T180000
DTSTAMP:20260420T213613
CREATED:20260106T203953Z
LAST-MODIFIED:20260309T214015Z
UID:10000683-1783332000-1783360800@grandbendmotorplex.com
SUMMARY:Ride 42 Motorcycle Track day
DESCRIPTION:Ride 42 Motorcycle road course track days run from 10am to 6pm with a lunch break. Registration and Information on the program is available at ride42.ca
URL:https://grandbendmotorplex.com/event/ride-42-motorcycle-track-day/2026-07-06/
CATEGORIES:Raceway
END:VEVENT
BEGIN:VEVENT
DTSTART;TZID=UTC:20260707T090000
DTEND;TZID=UTC:20260707T160000
DTSTAMP:20260420T213613
CREATED:20260122T184902Z
LAST-MODIFIED:20260310T144233Z
UID:10000828-1783414800-1783440000@grandbendmotorplex.com
SUMMARY:Road course available for rent
DESCRIPTION:
URL:https://grandbendmotorplex.com/event/road-course-available-for-rent-20/
CATEGORIES:Raceway
END:VEVENT
BEGIN:VEVENT
DTSTART;TZID=UTC:20260707T163000
DTEND;TZID=UTC:20260707T180000
DTSTAMP:20260420T213613
CREATED:20260310T142922Z
LAST-MODIFIED:20260310T142922Z
UID:10000862-1783441800-1783447200@grandbendmotorplex.com
SUMMARY:GRK Road course rental
DESCRIPTION:Gentlemen’s Race Karting road course rental.
URL:https://grandbendmotorplex.com/event/grk-road-course-rental-3/
CATEGORIES:Raceway
END:VEVENT
BEGIN:VEVENT
DTSTART;TZID=UTC:20260708T090000
DTEND;TZID=UTC:20260708T163000
DTSTAMP:20260420T213613
CREATED:20260122T184329Z
LAST-MODIFIED:20260122T184329Z
UID:10000825-1783501200-1783528200@grandbendmotorplex.com
SUMMARY:Road course available for rent
DESCRIPTION:
URL:https://grandbendmotorplex.com/event/road-course-available-for-rent-17/
CATEGORIES:Raceway
END:VEVENT
BEGIN:VEVENT
DTSTART;TZID=UTC:20260708T170000
DTEND;TZID=UTC:20260708T210000
DTSTAMP:20260420T213613
CREATED:20260106T202927Z
LAST-MODIFIED:20260106T202927Z
UID:10000667-1783530000-1783544400@grandbendmotorplex.com
SUMMARY:Whitelaw Automotive Wednesday evening Car lapping
DESCRIPTION:Car Lapping 5pm-9pm. Three groups – beginner (green)\, intermediate (yellow)\, advanced (red). Limited to 14 spots per group. Reserve a spot online at gbmpresales.com or call track 519-238-7223
URL:https://grandbendmotorplex.com/event/whitelaw-automotive-wednesday-evening-car-lapping-8/2026-07-08/
CATEGORIES:Raceway
END:VEVENT
BEGIN:VEVENT
DTSTART;TZID=UTC:20260709T080000
DTEND;TZID=UTC:20260709T160000
DTSTAMP:20260420T213613
CREATED:20260122T192622Z
LAST-MODIFIED:20260122T192622Z
UID:10000849-1783584000-1783612800@grandbendmotorplex.com
SUMMARY:Road course available for rent ( no Bikes)
DESCRIPTION:
URL:https://grandbendmotorplex.com/event/road-course-available-for-rent-no-bikes/
CATEGORIES:Raceway
END:VEVENT
BEGIN:VEVENT
DTSTART;TZID=UTC:20260710T080000
DTEND;TZID=UTC:20260712T170000
DTSTAMP:20260420T213613
CREATED:20260107T181359Z
LAST-MODIFIED:20260107T181359Z
UID:10000724-1783670400-1783875600@grandbendmotorplex.com
SUMMARY:CSBK  Canadian Superbike Championship series
DESCRIPTION:The 4th of 5 races in the Canadian Superbike series. Featuring the best Motorcycle road racers in the country. Friday practice day followed by racing Saturday and Sunday. \nFor event information etc. go to csbk.ca
URL:https://grandbendmotorplex.com/event/csbk-canadian-superbike-championship-series/
CATEGORIES:Raceway
END:VEVENT
BEGIN:VEVENT
DTSTART;TZID=UTC:20260713T100000
DTEND;TZID=UTC:20260713T180000
DTSTAMP:20260420T213613
CREATED:20260109T164113Z
LAST-MODIFIED:20260210T182603Z
UID:10000746-1783936800-1783965600@grandbendmotorplex.com
SUMMARY:Ontario Sport Riders Club (OSR) Motorcycle lapping day
DESCRIPTION:Ontario Sport Riders Club lapping date. Go to  www.osrclub.ca  for event details and registration.
URL:https://grandbendmotorplex.com/event/ontario-sport-riders-club-osr-motorcycle-lapping-day-2/
CATEGORIES:Raceway
END:VEVENT
BEGIN:VEVENT
DTSTART;TZID=UTC:20260714T090000
DTEND;TZID=UTC:20260714T170000
DTSTAMP:20260420T213613
CREATED:20260122T184926Z
LAST-MODIFIED:20260415T184940Z
UID:10000829-1784019600-1784048400@grandbendmotorplex.com
SUMMARY:Road course rental Sebastian Tomczyk
DESCRIPTION:Road course rental 9am-5pm
URL:https://grandbendmotorplex.com/event/road-course-available-for-rent-21/
CATEGORIES:Raceway
END:VEVENT
BEGIN:VEVENT
DTSTART;TZID=UTC:20260715T090000
DTEND;TZID=UTC:20260715T170000
DTSTAMP:20260420T213613
CREATED:20260107T183139Z
LAST-MODIFIED:20260107T183139Z
UID:10000728-1784106000-1784134800@grandbendmotorplex.com
SUMMARY:Mike K (Georgian Bay Motors) road course rental
DESCRIPTION:Private road course rental
URL:https://grandbendmotorplex.com/event/mike-k-georgian-bay-motors-road-course-rental-4/
CATEGORIES:Raceway
END:VEVENT
BEGIN:VEVENT
DTSTART;TZID=UTC:20260715T170000
DTEND;TZID=UTC:20260715T210000
DTSTAMP:20260420T213613
CREATED:20260107T161321Z
LAST-MODIFIED:20260210T182714Z
UID:10000718-1784134800-1784149200@grandbendmotorplex.com
SUMMARY:Hully Gully "Two Wheel" Wednesday evening Motorcycle lapping
DESCRIPTION:Wednesday evening Motorcycle lapping program  . Three groups – Beginner (Green)\, Intermediate (Yellow) Advanced (red). Each group gets a 20 minute session per hour in rotation. Register at gbmpresales.com or call the track 519-238-7223.
URL:https://grandbendmotorplex.com/event/hully-gully-two-wheel-wednesday-evening-motorcycle-lapping-9/
CATEGORIES:Raceway
END:VEVENT
BEGIN:VEVENT
DTSTART;TZID=UTC:20260716T080000
DTEND;TZID=UTC:20260716T170000
DTSTAMP:20260420T213613
CREATED:20260109T163040Z
LAST-MODIFIED:20260210T173702Z
UID:10000742-1784188800-1784221200@grandbendmotorplex.com
SUMMARY:Seriously Casual Motorsports Motorcycle Lapping program
DESCRIPTION:Seriously Casual Motorsports rental –  event info is available at seriouslycasualmotorsports.ca
URL:https://grandbendmotorplex.com/event/seriously-casual-motorsports-motorcycle-lapping-program/
CATEGORIES:Raceway
END:VEVENT
BEGIN:VEVENT
DTSTART;VALUE=DATE:20260717
DTEND;VALUE=DATE:20260720
DTSTAMP:20260420T213613
CREATED:20260106T211003Z
LAST-MODIFIED:20260106T211003Z
UID:10000707-1784246400-1784505599@grandbendmotorplex.com
SUMMARY:Racer 5 Motorcycle Development School
DESCRIPTION:Racer 5 is a Professional rider development operation that helps improve your riding skills from beginner to expert. They run a 3 day program from Friday to Sunday. Go to racer5.ca for pricing and program details.
URL:https://grandbendmotorplex.com/event/racer-5-motorcycle-development-school-8/
CATEGORIES:Raceway
END:VEVENT
BEGIN:VEVENT
DTSTART;TZID=UTC:20260720T100000
DTEND;TZID=UTC:20260720T180000
DTSTAMP:20260420T213613
CREATED:20260106T204819Z
LAST-MODIFIED:20260309T213808Z
UID:10000693-1784541600-1784570400@grandbendmotorplex.com
SUMMARY:KSR Motorcycle Track days
DESCRIPTION:Motorcycle road course track days hosted by KW Sport racing. 10am-6pm program. Registration and Information is available at ksrtrackdays.com
URL:https://grandbendmotorplex.com/event/ksr-motorcycle-track-days-11/2026-07-20/
CATEGORIES:Raceway
END:VEVENT
BEGIN:VEVENT
DTSTART;TZID=UTC:20260721T090000
DTEND;TZID=UTC:20260721T160000
DTSTAMP:20260420T213613
CREATED:20260122T184951Z
LAST-MODIFIED:20260310T144329Z
UID:10000830-1784624400-1784649600@grandbendmotorplex.com
SUMMARY:Road course available for rent
DESCRIPTION:
URL:https://grandbendmotorplex.com/event/road-course-available-for-rent-22/
CATEGORIES:Raceway
END:VEVENT
BEGIN:VEVENT
DTSTART;TZID=UTC:20260721T163000
DTEND;TZID=UTC:20260721T180000
DTSTAMP:20260420T213613
CREATED:20260310T142940Z
LAST-MODIFIED:20260310T142940Z
UID:10000863-1784651400-1784656800@grandbendmotorplex.com
SUMMARY:GRK Road course rental
DESCRIPTION:Gentlemen’s Race Karting road course rental.
URL:https://grandbendmotorplex.com/event/grk-road-course-rental-4/
CATEGORIES:Raceway
END:VEVENT
BEGIN:VEVENT
DTSTART;TZID=UTC:20260722T090000
DTEND;TZID=UTC:20260722T163000
DTSTAMP:20260420T213613
CREATED:20260122T184349Z
LAST-MODIFIED:20260122T184349Z
UID:10000826-1784710800-1784737800@grandbendmotorplex.com
SUMMARY:Road course available for rent
DESCRIPTION:
URL:https://grandbendmotorplex.com/event/road-course-available-for-rent-18/
CATEGORIES:Raceway
END:VEVENT
BEGIN:VEVENT
DTSTART;TZID=UTC:20260722T170000
DTEND;TZID=UTC:20260722T210000
DTSTAMP:20260420T213613
CREATED:20260106T202927Z
LAST-MODIFIED:20260106T202927Z
UID:10000668-1784739600-1784754000@grandbendmotorplex.com
SUMMARY:Whitelaw Automotive Wednesday evening Car lapping
DESCRIPTION:Car Lapping 5pm-9pm. Three groups – beginner (green)\, intermediate (yellow)\, advanced (red). Limited to 14 spots per group. Reserve a spot online at gbmpresales.com or call track 519-238-7223
URL:https://grandbendmotorplex.com/event/whitelaw-automotive-wednesday-evening-car-lapping-8/2026-07-22/
CATEGORIES:Raceway
END:VEVENT
BEGIN:VEVENT
DTSTART;TZID=UTC:20260723T090000
DTEND;TZID=UTC:20260723T170000
DTSTAMP:20260420T213613
CREATED:20260107T160600Z
LAST-MODIFIED:20260210T182850Z
UID:10000713-1784797200-1784826000@grandbendmotorplex.com
SUMMARY:Davies Group Road course rental
DESCRIPTION:Private Road course rental  9am-5pm
URL:https://grandbendmotorplex.com/event/davies-group-road-course-rental-11/
CATEGORIES:Raceway
END:VEVENT
BEGIN:VEVENT
DTSTART;VALUE=DATE:20260724
DTEND;VALUE=DATE:20260727
DTSTAMP:20260420T213613
CREATED:20260106T210025Z
LAST-MODIFIED:20260106T210025Z
UID:10000701-1784851200-1785110399@grandbendmotorplex.com
SUMMARY:SOAR Motorcycle Race Series Weekend
DESCRIPTION:SOAR Motorcycle Race weekend –  Ontario’s premier motorcycle road course race series.  Friday is practice Day. Saturday & Sunday are race days. Information on the SOAR race series is available at soarracing.ca
URL:https://grandbendmotorplex.com/event/soar-motorcycle-race-series-weekend-3/
CATEGORIES:Raceway
END:VEVENT
BEGIN:VEVENT
DTSTART;TZID=UTC:20260727T100000
DTEND;TZID=UTC:20260727T180000
DTSTAMP:20260420T213613
CREATED:20260106T203953Z
LAST-MODIFIED:20260309T214015Z
UID:10000684-1785146400-1785175200@grandbendmotorplex.com
SUMMARY:Ride 42 Motorcycle Track day
DESCRIPTION:Ride 42 Motorcycle road course track days run from 10am to 6pm with a lunch break. Registration and Information on the program is available at ride42.ca
URL:https://grandbendmotorplex.com/event/ride-42-motorcycle-track-day/2026-07-27/
CATEGORIES:Raceway
END:VEVENT
BEGIN:VEVENT
DTSTART;TZID=UTC:20260728T080000
DTEND;TZID=UTC:20260728T170000
DTSTAMP:20260420T213613
CREATED:20260122T185016Z
LAST-MODIFIED:20260122T185016Z
UID:10000831-1785225600-1785258000@grandbendmotorplex.com
SUMMARY:Road course available for rent
DESCRIPTION:
URL:https://grandbendmotorplex.com/event/road-course-available-for-rent-23/
CATEGORIES:Raceway
END:VEVENT
BEGIN:VEVENT
DTSTART;TZID=UTC:20260729T080000
DTEND;TZID=UTC:20260729T170000
DTSTAMP:20260420T213613
CREATED:20260210T183309Z
LAST-MODIFIED:20260210T183309Z
UID:10000852-1785312000-1785344400@grandbendmotorplex.com
SUMMARY:Road course available for rent
DESCRIPTION:
URL:https://grandbendmotorplex.com/event/road-course-available-for-rent-40/
CATEGORIES:Raceway
END:VEVENT
BEGIN:VEVENT
DTSTART;TZID=UTC:20260729T170000
DTEND;TZID=UTC:20260729T210000
DTSTAMP:20260420T213613
CREATED:20260106T202927Z
LAST-MODIFIED:20260106T202927Z
UID:10000669-1785344400-1785358800@grandbendmotorplex.com
SUMMARY:Whitelaw Automotive Wednesday evening Car lapping
DESCRIPTION:Car Lapping 5pm-9pm. Three groups – beginner (green)\, intermediate (yellow)\, advanced (red). Limited to 14 spots per group. Reserve a spot online at gbmpresales.com or call track 519-238-7223
URL:https://grandbendmotorplex.com/event/whitelaw-automotive-wednesday-evening-car-lapping-8/2026-07-29/
CATEGORIES:Raceway
END:VEVENT
END:VCALENDAR