BEGIN:VCALENDAR
VERSION:2.0
PRODID:-//Grand Bend Motorplex - ECPv6.5.1.5//NONSGML v1.0//EN
CALSCALE:GREGORIAN
METHOD:PUBLISH
X-WR-CALNAME:Grand Bend Motorplex
X-ORIGINAL-URL:https://grandbendmotorplex.com
X-WR-CALDESC:Events for Grand Bend Motorplex
REFRESH-INTERVAL;VALUE=DURATION:PT1H
X-Robots-Tag:noindex
X-PUBLISHED-TTL:PT1H
BEGIN:VTIMEZONE
TZID:UTC
BEGIN:STANDARD
TZOFFSETFROM:+0000
TZOFFSETTO:+0000
TZNAME:UTC
DTSTART:20260101T000000
END:STANDARD
END:VTIMEZONE
BEGIN:VEVENT
DTSTART;VALUE=DATE:20260515
DTEND;VALUE=DATE:20260518
DTSTAMP:20260420T193923
CREATED:20260106T210906Z
LAST-MODIFIED:20260106T210906Z
UID:10000705-1778803200-1779062399@grandbendmotorplex.com
SUMMARY:Racer 5 Motorcycle Development School
DESCRIPTION:Racer 5 is a Professional rider development operation that helps improve your riding skills from beginner to expert. They run a 3 day program from Friday to Sunday. Go to racer5.ca for pricing and program details.
URL:https://grandbendmotorplex.com/event/racer-5-motorcycle-development-school-6/
CATEGORIES:Raceway
END:VEVENT
END:VCALENDAR