BEGIN:VCALENDAR
VERSION:2.0
PRODID:-//Grand Bend Motorplex - ECPv6.5.1.5//NONSGML v1.0//EN
CALSCALE:GREGORIAN
METHOD:PUBLISH
X-WR-CALNAME:Grand Bend Motorplex
X-ORIGINAL-URL:https://grandbendmotorplex.com
X-WR-CALDESC:Events for Grand Bend Motorplex
REFRESH-INTERVAL;VALUE=DURATION:PT1H
X-Robots-Tag:noindex
X-PUBLISHED-TTL:PT1H
BEGIN:VTIMEZONE
TZID:UTC
BEGIN:STANDARD
TZOFFSETFROM:+0000
TZOFFSETTO:+0000
TZNAME:UTC
DTSTART:20260101T000000
END:STANDARD
END:VTIMEZONE
BEGIN:VEVENT
DTSTART;TZID=UTC:20260804T080000
DTEND;TZID=UTC:20260804T170000
DTSTAMP:20260421T005455
CREATED:20260122T185102Z
LAST-MODIFIED:20260122T185102Z
UID:10000833-1785830400-1785862800@grandbendmotorplex.com
SUMMARY:Road course available for rent
DESCRIPTION:
URL:https://grandbendmotorplex.com/event/road-course-available-for-rent-24/
CATEGORIES:Raceway
END:VEVENT
BEGIN:VEVENT
DTSTART;TZID=UTC:20260804T163000
DTEND;TZID=UTC:20260804T180000
DTSTAMP:20260421T005455
CREATED:20260310T142958Z
LAST-MODIFIED:20260310T142958Z
UID:10000864-1785861000-1785866400@grandbendmotorplex.com
SUMMARY:GRK Road course rental
DESCRIPTION:Gentlemen’s Race Karting road course rental.
URL:https://grandbendmotorplex.com/event/grk-road-course-rental-5/
CATEGORIES:Raceway
END:VEVENT
END:VCALENDAR