BEGIN:VCALENDAR
VERSION:2.0
PRODID:-//Grand Bend Motorplex - ECPv6.5.1.5//NONSGML v1.0//EN
CALSCALE:GREGORIAN
METHOD:PUBLISH
X-WR-CALNAME:Grand Bend Motorplex
X-ORIGINAL-URL:https://grandbendmotorplex.com
X-WR-CALDESC:Events for Grand Bend Motorplex
REFRESH-INTERVAL;VALUE=DURATION:PT1H
X-Robots-Tag:noindex
X-PUBLISHED-TTL:PT1H
BEGIN:VTIMEZONE
TZID:UTC
BEGIN:STANDARD
TZOFFSETFROM:+0000
TZOFFSETTO:+0000
TZNAME:UTC
DTSTART:20260101T000000
END:STANDARD
END:VTIMEZONE
BEGIN:VEVENT
DTSTART;TZID=UTC:20260907T110000
DTEND;TZID=UTC:20260907T170000
DTSTAMP:20260421T024200
CREATED:20260112T214055Z
LAST-MODIFIED:20260112T214055Z
UID:10000673-1788778800-1788800400@grandbendmotorplex.com
SUMMARY:Whitelaw Automotive Holiday Monday Daytime Car lapping program
DESCRIPTION:Car Lapping 11am-5pm. Three groups – beginner (green)\, intermediate (yellow)\, advanced (red). Limited to 14 spots per group. Reserve a spot online at gbmpresales.com or call track 519-238-7223
URL:https://grandbendmotorplex.com/event/whitelaw-automotive-wednesday-evening-car-lapping-8-4/
CATEGORIES:Raceway
END:VEVENT
END:VCALENDAR