BEGIN:VCALENDAR
VERSION:2.0
PRODID:-//Grand Bend Motorplex - ECPv6.5.1.5//NONSGML v1.0//EN
CALSCALE:GREGORIAN
METHOD:PUBLISH
X-WR-CALNAME:Grand Bend Motorplex
X-ORIGINAL-URL:https://grandbendmotorplex.com
X-WR-CALDESC:Events for Grand Bend Motorplex
REFRESH-INTERVAL;VALUE=DURATION:PT1H
X-Robots-Tag:noindex
X-PUBLISHED-TTL:PT1H
BEGIN:VTIMEZONE
TZID:UTC
BEGIN:STANDARD
TZOFFSETFROM:+0000
TZOFFSETTO:+0000
TZNAME:UTC
DTSTART:20260101T000000
END:STANDARD
END:VTIMEZONE
BEGIN:VEVENT
DTSTART;VALUE=DATE:20260918
DTEND;VALUE=DATE:20260921
DTSTAMP:20260421T024200
CREATED:20260106T210209Z
LAST-MODIFIED:20260106T210209Z
UID:10000704-1789689600-1789948799@grandbendmotorplex.com
SUMMARY:SOAR Motorcycle Race Series Weekend (Championship wkd)
DESCRIPTION:SOAR Motorcycle Race weekend –  Ontario’s premier motorcycle road course race series.  Friday is practice Day. Saturday & Sunday are race days. Information on the SOAR race series is available at soarracing.ca
URL:https://grandbendmotorplex.com/event/soar-motorcycle-race-series-weekend-championship-wkd/
CATEGORIES:Raceway
END:VEVENT
END:VCALENDAR