BEGIN:VCALENDAR
VERSION:2.0
PRODID:-//Grand Bend Motorplex - ECPv6.5.1.5//NONSGML v1.0//EN
CALSCALE:GREGORIAN
METHOD:PUBLISH
X-WR-CALNAME:Grand Bend Motorplex
X-ORIGINAL-URL:https://grandbendmotorplex.com
X-WR-CALDESC:Events for Grand Bend Motorplex
REFRESH-INTERVAL;VALUE=DURATION:PT1H
X-Robots-Tag:noindex
X-PUBLISHED-TTL:PT1H
BEGIN:VTIMEZONE
TZID:UTC
BEGIN:STANDARD
TZOFFSETFROM:+0000
TZOFFSETTO:+0000
TZNAME:UTC
DTSTART:20260101T000000
END:STANDARD
END:VTIMEZONE
BEGIN:VEVENT
DTSTART;TZID=UTC:20260923T090000
DTEND;TZID=UTC:20260923T153000
DTSTAMP:20260421T024214
CREATED:20260122T191755Z
LAST-MODIFIED:20260122T191755Z
UID:10000840-1790154000-1790177400@grandbendmotorplex.com
SUMMARY:Road course available for rent
DESCRIPTION:
URL:https://grandbendmotorplex.com/event/road-course-available-for-rent-31/
CATEGORIES:Raceway
END:VEVENT
BEGIN:VEVENT
DTSTART;TZID=UTC:20260923T160000
DTEND;TZID=UTC:20260923T200000
DTSTAMP:20260421T024214
CREATED:20260106T202927Z
LAST-MODIFIED:20260106T202927Z
UID:10000675-1790179200-1790193600@grandbendmotorplex.com
SUMMARY:Whitelaw Automotive Wednesday evening Car lapping
DESCRIPTION:Car Lapping 5pm-9pm. Three groups – beginner (green)\, intermediate (yellow)\, advanced (red). Limited to 14 spots per group. Reserve a spot online at gbmpresales.com or call track 519-238-7223
URL:https://grandbendmotorplex.com/event/whitelaw-automotive-wednesday-evening-car-lapping-8/2026-09-23/
CATEGORIES:Raceway
END:VEVENT
END:VCALENDAR