BEGIN:VCALENDAR
VERSION:2.0
PRODID:-//Grand Bend Motorplex - ECPv6.5.1.5//NONSGML v1.0//EN
CALSCALE:GREGORIAN
METHOD:PUBLISH
X-ORIGINAL-URL:https://grandbendmotorplex.com
X-WR-CALDESC:Events for Grand Bend Motorplex
REFRESH-INTERVAL;VALUE=DURATION:PT1H
X-Robots-Tag:noindex
X-PUBLISHED-TTL:PT1H
BEGIN:VTIMEZONE
TZID:UTC
BEGIN:STANDARD
TZOFFSETFROM:+0000
TZOFFSETTO:+0000
TZNAME:UTC
DTSTART:20260101T000000
END:STANDARD
END:VTIMEZONE
BEGIN:VEVENT
DTSTART;TZID=UTC:20260924T080000
DTEND;TZID=UTC:20260924T170000
DTSTAMP:20260421T024637
CREATED:20260109T163114Z
LAST-MODIFIED:20260210T174023Z
UID:10000743-1790236800-1790269200@grandbendmotorplex.com
SUMMARY:Seriously Casual Motorsports Motorcycle Lapping program
DESCRIPTION:Seriously Casual Motorsports rental –  event info is available at seriouslycasualmotorsports.ca
URL:https://grandbendmotorplex.com/event/seriously-casual-motorsports-motorcycle-lapping-program-2/
CATEGORIES:Raceway
END:VEVENT
END:VCALENDAR