BEGIN:VCALENDAR
VERSION:2.0
PRODID:-//Grand Bend Motorplex - ECPv6.5.1.5//NONSGML v1.0//EN
CALSCALE:GREGORIAN
METHOD:PUBLISH
X-WR-CALNAME:Grand Bend Motorplex
X-ORIGINAL-URL:https://grandbendmotorplex.com
X-WR-CALDESC:Events for Grand Bend Motorplex
REFRESH-INTERVAL;VALUE=DURATION:PT1H
X-Robots-Tag:noindex
X-PUBLISHED-TTL:PT1H
BEGIN:VTIMEZONE
TZID:UTC
BEGIN:STANDARD
TZOFFSETFROM:+0000
TZOFFSETTO:+0000
TZNAME:UTC
DTSTART:20260101T000000
END:STANDARD
END:VTIMEZONE
BEGIN:VEVENT
DTSTART;TZID=UTC:20260928T100000
DTEND;TZID=UTC:20260928T180000
DTSTAMP:20260421T024159
CREATED:20260114T143234Z
LAST-MODIFIED:20260114T143306Z
UID:10000791-1790589600-1790618400@grandbendmotorplex.com
SUMMARY:Ride 42 Motorcycle Track day
DESCRIPTION:Ride 42 Motorcycle track days run from 10am to 6pm with a lunch break. Registration and Information on the program is available at ride42.ca
URL:https://grandbendmotorplex.com/event/ride-42-motorcycle-track-day-2/2026-09-28/
CATEGORIES:Raceway
END:VEVENT
END:VCALENDAR