BEGIN:VCALENDAR
VERSION:2.0
PRODID:-//Grand Bend Motorplex - ECPv6.5.1.5//NONSGML v1.0//EN
CALSCALE:GREGORIAN
METHOD:PUBLISH
X-WR-CALNAME:Grand Bend Motorplex
X-ORIGINAL-URL:https://grandbendmotorplex.com
X-WR-CALDESC:Events for Grand Bend Motorplex
REFRESH-INTERVAL;VALUE=DURATION:PT1H
X-Robots-Tag:noindex
X-PUBLISHED-TTL:PT1H
BEGIN:VTIMEZONE
TZID:UTC
BEGIN:STANDARD
TZOFFSETFROM:+0000
TZOFFSETTO:+0000
TZNAME:UTC
DTSTART:20260101T000000
END:STANDARD
END:VTIMEZONE
BEGIN:VEVENT
DTSTART;TZID=UTC:20261013T090000
DTEND;TZID=UTC:20261013T160000
DTSTAMP:20260421T063521
CREATED:20260310T144810Z
LAST-MODIFIED:20260310T144810Z
UID:10000873-1791882000-1791907200@grandbendmotorplex.com
SUMMARY:Road course available for rent
DESCRIPTION:
URL:https://grandbendmotorplex.com/event/road-course-available-for-rent-14/
CATEGORIES:Raceway
END:VEVENT
BEGIN:VEVENT
DTSTART;TZID=UTC:20261013T163000
DTEND;TZID=UTC:20261013T180000
DTSTAMP:20260421T063521
CREATED:20260310T143142Z
LAST-MODIFIED:20260310T143142Z
UID:10000869-1791909000-1791914400@grandbendmotorplex.com
SUMMARY:GRK Road course rental
DESCRIPTION:Gentlemen’s Race Karting road course rental.
URL:https://grandbendmotorplex.com/event/grk-road-course-rental-10/
CATEGORIES:Raceway
END:VEVENT
BEGIN:VEVENT
DTSTART;TZID=UTC:20261014T090000
DTEND;TZID=UTC:20261014T170000
DTSTAMP:20260421T063521
CREATED:20260107T183324Z
LAST-MODIFIED:20260107T183324Z
UID:10000731-1791968400-1791997200@grandbendmotorplex.com
SUMMARY:Mike K (Georgian Bay Motors) road course rental
DESCRIPTION:Private road course rental
URL:https://grandbendmotorplex.com/event/mike-k-georgian-bay-motors-road-course-rental-7/
CATEGORIES:Raceway
END:VEVENT
BEGIN:VEVENT
DTSTART;TZID=UTC:20261015T100000
DTEND;TZID=UTC:20261015T160000
DTSTAMP:20260421T063521
CREATED:20260310T143231Z
LAST-MODIFIED:20260310T160535Z
UID:10000870-1792058400-1792080000@grandbendmotorplex.com
SUMMARY:GRK Road course rental
DESCRIPTION:Gentlemen’s Race Karting road course rental.
URL:https://grandbendmotorplex.com/event/grk-road-course-rental-11/
CATEGORIES:Raceway
END:VEVENT
BEGIN:VEVENT
DTSTART;TZID=UTC:20261016T163000
DTEND;TZID=UTC:20261016T180000
DTSTAMP:20260421T063521
CREATED:20260310T143250Z
LAST-MODIFIED:20260310T143250Z
UID:10000871-1792168200-1792173600@grandbendmotorplex.com
SUMMARY:GRK Road course rental
DESCRIPTION:Gentlemen’s Race Karting road course rental.
URL:https://grandbendmotorplex.com/event/grk-road-course-rental-12/
CATEGORIES:Raceway
END:VEVENT
BEGIN:VEVENT
DTSTART;TZID=UTC:20261017T100000
DTEND;TZID=UTC:20261017T180000
DTSTAMP:20260421T063521
CREATED:20260330T140511Z
LAST-MODIFIED:20260330T140511Z
UID:10000894-1792231200-1792260000@grandbendmotorplex.com
SUMMARY:Ride 42 Motorcycle Track day
DESCRIPTION:Ride 42 Motorcycle track days run from 10am to 6pm with a lunch break. Registration and Information on the program is available at ride42.ca
URL:https://grandbendmotorplex.com/event/ride-42-motorcycle-track-day-6/2026-10-17/
CATEGORIES:Raceway
END:VEVENT
BEGIN:VEVENT
DTSTART;TZID=UTC:20261018T090000
DTEND;TZID=UTC:20261018T170000
DTSTAMP:20260421T063521
CREATED:20260330T135852Z
LAST-MODIFIED:20260330T135852Z
UID:10000891-1792314000-1792342800@grandbendmotorplex.com
SUMMARY:Falcon Autosport road course rental
DESCRIPTION:Road course rental
URL:https://grandbendmotorplex.com/event/falcon-autosport-road-course-rental-2/
CATEGORIES:Raceway
END:VEVENT
BEGIN:VEVENT
DTSTART;TZID=UTC:20261020T090000
DTEND;TZID=UTC:20261020T160000
DTSTAMP:20260421T063521
CREATED:20260310T144829Z
LAST-MODIFIED:20260310T144829Z
UID:10000874-1792486800-1792512000@grandbendmotorplex.com
SUMMARY:Road course available for rent
DESCRIPTION:
URL:https://grandbendmotorplex.com/event/road-course-available-for-rent-19/
CATEGORIES:Raceway
END:VEVENT
BEGIN:VEVENT
DTSTART;TZID=UTC:20261020T163000
DTEND;TZID=UTC:20261020T180000
DTSTAMP:20260421T063521
CREATED:20260310T143317Z
LAST-MODIFIED:20260310T143317Z
UID:10000872-1792513800-1792519200@grandbendmotorplex.com
SUMMARY:GRK Road course rental
DESCRIPTION:Gentlemen’s Race Karting road course rental.
URL:https://grandbendmotorplex.com/event/grk-road-course-rental-13/
CATEGORIES:Raceway
END:VEVENT
BEGIN:VEVENT
DTSTART;TZID=UTC:20261021T090000
DTEND;TZID=UTC:20261021T143000
DTSTAMP:20260421T063521
CREATED:20260122T191913Z
LAST-MODIFIED:20260122T191913Z
UID:10000843-1792573200-1792593000@grandbendmotorplex.com
SUMMARY:Road course available for rent
DESCRIPTION:
URL:https://grandbendmotorplex.com/event/road-course-available-for-rent-34/
CATEGORIES:Raceway
END:VEVENT
BEGIN:VEVENT
DTSTART;TZID=UTC:20261021T150000
DTEND;TZID=UTC:20261021T190000
DTSTAMP:20260421T063521
CREATED:20260106T202927Z
LAST-MODIFIED:20260106T202927Z
UID:10000678-1792594800-1792609200@grandbendmotorplex.com
SUMMARY:Whitelaw Automotive Wednesday evening Car lapping
DESCRIPTION:Car Lapping 5pm-9pm. Three groups – beginner (green)\, intermediate (yellow)\, advanced (red). Limited to 14 spots per group. Reserve a spot online at gbmpresales.com or call track 519-238-7223
URL:https://grandbendmotorplex.com/event/whitelaw-automotive-wednesday-evening-car-lapping-8/2026-10-21/
CATEGORIES:Raceway
END:VEVENT
BEGIN:VEVENT
DTSTART;TZID=UTC:20261024T080000
DTEND;TZID=UTC:20261025T170000
DTSTAMP:20260421T063521
CREATED:20260107T190252Z
LAST-MODIFIED:20260107T190252Z
UID:10000732-1792828800-1792947600@grandbendmotorplex.com
SUMMARY:TOPP DRIFT
DESCRIPTION:Topp Drift –  is a drifting event on the road course that uses the entire road course layout. \nGo to www.toppdrift.ca for event registration and details.
URL:https://grandbendmotorplex.com/event/topp-drift-3/
CATEGORIES:Raceway
END:VEVENT
END:VCALENDAR