BEGIN:VCALENDAR
VERSION:2.0
PRODID:-//Grand Bend Motorplex - ECPv6.5.1.5//NONSGML v1.0//EN
CALSCALE:GREGORIAN
METHOD:PUBLISH
X-ORIGINAL-URL:https://grandbendmotorplex.com
X-WR-CALDESC:Events for Grand Bend Motorplex
REFRESH-INTERVAL;VALUE=DURATION:PT1H
X-Robots-Tag:noindex
X-PUBLISHED-TTL:PT1H
BEGIN:VTIMEZONE
TZID:UTC
BEGIN:STANDARD
TZOFFSETFROM:+0000
TZOFFSETTO:+0000
TZNAME:UTC
DTSTART:20260101T000000
END:STANDARD
END:VTIMEZONE
BEGIN:VEVENT
DTSTART;TZID=UTC:20260804T163000
DTEND;TZID=UTC:20260804T180000
DTSTAMP:20260421T030324
CREATED:20260310T142958Z
LAST-MODIFIED:20260310T142958Z
UID:10000864-1785861000-1785866400@grandbendmotorplex.com
SUMMARY:GRK Road course rental
DESCRIPTION:Gentlemen’s Race Karting road course rental.
URL:https://grandbendmotorplex.com/event/grk-road-course-rental-5/
CATEGORIES:Raceway
END:VEVENT
BEGIN:VEVENT
DTSTART;TZID=UTC:20260805T080000
DTEND;TZID=UTC:20260805T170000
DTSTAMP:20260421T030324
CREATED:20260220T183621Z
LAST-MODIFIED:20260220T183621Z
UID:10000855-1785916800-1785949200@grandbendmotorplex.com
SUMMARY:Serious Casual Motorsports
DESCRIPTION:Road course Motorcycle rental
URL:https://grandbendmotorplex.com/event/serious-casual-motorsports-3/
CATEGORIES:Raceway
END:VEVENT
BEGIN:VEVENT
DTSTART;TZID=UTC:20260805T170000
DTEND;TZID=UTC:20260805T210000
DTSTAMP:20260421T030324
CREATED:20260107T161346Z
LAST-MODIFIED:20260210T183459Z
UID:10000719-1785949200-1785963600@grandbendmotorplex.com
SUMMARY:Hully Gully "Two Wheel" Wednesday evening Motorcycle lapping
DESCRIPTION:Wednesday evening Motorcycle lapping program  . Three groups – Beginner (Green)\, Intermediate (Yellow) Advanced (red). Each group gets a 20 minute session per hour in rotation. Register at gbmpresales.com or call the track 519-238-7223.
URL:https://grandbendmotorplex.com/event/hully-gully-two-wheel-wednesday-evening-motorcycle-lapping-10/
CATEGORIES:Raceway
END:VEVENT
BEGIN:VEVENT
DTSTART;TZID=UTC:20260806T100000
DTEND;TZID=UTC:20260806T180000
DTSTAMP:20260421T030324
CREATED:20260109T165302Z
LAST-MODIFIED:20260210T183600Z
UID:10000749-1786010400-1786039200@grandbendmotorplex.com
SUMMARY:Ontario Sport Riders Club (OSR) Motorcycle lapping day
DESCRIPTION:Ontario Sport Riders Club lapping date. Go to  www.osrclub.ca  for event details and registration.
URL:https://grandbendmotorplex.com/event/ontario-sport-riders-club-osr-motorcycle-lapping-day-5/
CATEGORIES:Raceway
END:VEVENT
BEGIN:VEVENT
DTSTART;VALUE=DATE:20260808
DTEND;VALUE=DATE:20260810
DTSTAMP:20260421T030324
CREATED:20260113T194919Z
LAST-MODIFIED:20260113T195808Z
UID:10000763-1786147200-1786319999@grandbendmotorplex.com
SUMMARY:Supercar Experiences Exotic Car Driving Experiences
DESCRIPTION:Supercar Experiences will be on the GBM road course offering their Super car ride programs. Drive a Ferrari\, Lamborghini\, Porsche or maybe a McLaren\, or maybe all of the above. \nGo to supercarexperiences.ca for info and took book your rides.
URL:https://grandbendmotorplex.com/event/supercar-experiences-exotic-car-drives/
CATEGORIES:Raceway
END:VEVENT
BEGIN:VEVENT
DTSTART;TZID=UTC:20260810T100000
DTEND;TZID=UTC:20260810T180000
DTSTAMP:20260421T030324
CREATED:20260106T203953Z
LAST-MODIFIED:20260309T214015Z
UID:10000685-1786356000-1786384800@grandbendmotorplex.com
SUMMARY:Ride 42 Motorcycle Track day
DESCRIPTION:Ride 42 Motorcycle road course track days run from 10am to 6pm with a lunch break. Registration and Information on the program is available at ride42.ca
URL:https://grandbendmotorplex.com/event/ride-42-motorcycle-track-day/2026-08-10/
CATEGORIES:Raceway
END:VEVENT
BEGIN:VEVENT
DTSTART;TZID=UTC:20260811T080000
DTEND;TZID=UTC:20260811T170000
DTSTAMP:20260421T030324
CREATED:20260122T185125Z
LAST-MODIFIED:20260122T185125Z
UID:10000834-1786435200-1786467600@grandbendmotorplex.com
SUMMARY:Road course available for rent
DESCRIPTION:
URL:https://grandbendmotorplex.com/event/road-course-available-for-rent-25/
CATEGORIES:Raceway
END:VEVENT
BEGIN:VEVENT
DTSTART;TZID=UTC:20260812T090000
DTEND;TZID=UTC:20260812T170000
DTSTAMP:20260421T030324
CREATED:20260107T183159Z
LAST-MODIFIED:20260107T183159Z
UID:10000729-1786525200-1786554000@grandbendmotorplex.com
SUMMARY:Mike K (Georgian Bay Motors) road course rental
DESCRIPTION:Private road course rental
URL:https://grandbendmotorplex.com/event/mike-k-georgian-bay-motors-road-course-rental-5/
CATEGORIES:Raceway
END:VEVENT
BEGIN:VEVENT
DTSTART;TZID=UTC:20260812T170000
DTEND;TZID=UTC:20260812T210000
DTSTAMP:20260421T030324
CREATED:20260106T202927Z
LAST-MODIFIED:20260106T202927Z
UID:10000670-1786554000-1786568400@grandbendmotorplex.com
SUMMARY:Whitelaw Automotive Wednesday evening Car lapping
DESCRIPTION:Car Lapping 5pm-9pm. Three groups – beginner (green)\, intermediate (yellow)\, advanced (red). Limited to 14 spots per group. Reserve a spot online at gbmpresales.com or call track 519-238-7223
URL:https://grandbendmotorplex.com/event/whitelaw-automotive-wednesday-evening-car-lapping-8/2026-08-12/
CATEGORIES:Raceway
END:VEVENT
BEGIN:VEVENT
DTSTART;TZID=UTC:20260813T090000
DTEND;TZID=UTC:20260813T170000
DTSTAMP:20260421T030324
CREATED:20260113T195937Z
LAST-MODIFIED:20260113T195937Z
UID:10000764-1786611600-1786640400@grandbendmotorplex.com
SUMMARY:SOAR Staff Appreciation day
DESCRIPTION:SOAR Staff appreciation day
URL:https://grandbendmotorplex.com/event/soar-staff-appreciation-day-2/
CATEGORIES:Raceway
END:VEVENT
BEGIN:VEVENT
DTSTART;VALUE=DATE:20260814
DTEND;VALUE=DATE:20260817
DTSTAMP:20260421T030324
CREATED:20260106T210057Z
LAST-MODIFIED:20260106T210057Z
UID:10000702-1786665600-1786924799@grandbendmotorplex.com
SUMMARY:SOAR Motorcycle Race Series Weekend
DESCRIPTION:SOAR Motorcycle Race weekend –  Ontario’s premier motorcycle road course race series.  Friday is practice Day. Saturday & Sunday are race days. Information on the SOAR race series is available at soarracing.ca
URL:https://grandbendmotorplex.com/event/soar-motorcycle-race-series-weekend-4/
CATEGORIES:Raceway
END:VEVENT
BEGIN:VEVENT
DTSTART;TZID=UTC:20260817T100000
DTEND;TZID=UTC:20260817T180000
DTSTAMP:20260421T030324
CREATED:20260106T204819Z
LAST-MODIFIED:20260309T213808Z
UID:10000694-1786960800-1786989600@grandbendmotorplex.com
SUMMARY:KSR Motorcycle Track days
DESCRIPTION:Motorcycle road course track days hosted by KW Sport racing. 10am-6pm program. Registration and Information is available at ksrtrackdays.com
URL:https://grandbendmotorplex.com/event/ksr-motorcycle-track-days-11/2026-08-17/
CATEGORIES:Raceway
END:VEVENT
BEGIN:VEVENT
DTSTART;TZID=UTC:20260818T090000
DTEND;TZID=UTC:20260818T160000
DTSTAMP:20260421T030324
CREATED:20260122T185147Z
LAST-MODIFIED:20260310T144423Z
UID:10000835-1787043600-1787068800@grandbendmotorplex.com
SUMMARY:Road course available for rent
DESCRIPTION:
URL:https://grandbendmotorplex.com/event/road-course-available-for-rent-26/
CATEGORIES:Raceway
END:VEVENT
BEGIN:VEVENT
DTSTART;TZID=UTC:20260818T163000
DTEND;TZID=UTC:20260818T180000
DTSTAMP:20260421T030324
CREATED:20260310T143020Z
LAST-MODIFIED:20260310T143020Z
UID:10000865-1787070600-1787076000@grandbendmotorplex.com
SUMMARY:GRK Road course rental
DESCRIPTION:Gentlemen’s Race Karting road course rental.
URL:https://grandbendmotorplex.com/event/grk-road-course-rental-6/
CATEGORIES:Raceway
END:VEVENT
BEGIN:VEVENT
DTSTART;TZID=UTC:20260819T090000
DTEND;TZID=UTC:20260819T163000
DTSTAMP:20260421T030324
CREATED:20260122T191553Z
LAST-MODIFIED:20260122T191553Z
UID:10000837-1787130000-1787157000@grandbendmotorplex.com
SUMMARY:Road course available for rent
DESCRIPTION:
URL:https://grandbendmotorplex.com/event/road-course-available-for-rent-28/
CATEGORIES:Raceway
END:VEVENT
BEGIN:VEVENT
DTSTART;TZID=UTC:20260819T170000
DTEND;TZID=UTC:20260819T210000
DTSTAMP:20260421T030324
CREATED:20260106T202927Z
LAST-MODIFIED:20260106T202927Z
UID:10000671-1787158800-1787173200@grandbendmotorplex.com
SUMMARY:Whitelaw Automotive Wednesday evening Car lapping
DESCRIPTION:Car Lapping 5pm-9pm. Three groups – beginner (green)\, intermediate (yellow)\, advanced (red). Limited to 14 spots per group. Reserve a spot online at gbmpresales.com or call track 519-238-7223
URL:https://grandbendmotorplex.com/event/whitelaw-automotive-wednesday-evening-car-lapping-8/2026-08-19/
CATEGORIES:Raceway
END:VEVENT
BEGIN:VEVENT
DTSTART;TZID=UTC:20260820T090000
DTEND;TZID=UTC:20260820T170000
DTSTAMP:20260421T030324
CREATED:20260107T160626Z
LAST-MODIFIED:20260210T183943Z
UID:10000714-1787216400-1787245200@grandbendmotorplex.com
SUMMARY:Davies Group Road course rental
DESCRIPTION:Private Road course rental  9am-5pm
URL:https://grandbendmotorplex.com/event/davies-group-road-course-rental-12/
CATEGORIES:Raceway
END:VEVENT
BEGIN:VEVENT
DTSTART;VALUE=DATE:20260821
DTEND;VALUE=DATE:20260824
DTSTAMP:20260421T030324
CREATED:20260106T211142Z
LAST-MODIFIED:20260106T211142Z
UID:10000709-1787270400-1787529599@grandbendmotorplex.com
SUMMARY:Racer 5 Motorcycle Development School
DESCRIPTION:Racer 5 is a Professional rider development operation that helps improve your riding skills from beginner to expert. They run a 3 day program from Friday to Sunday. Go to racer5.ca for pricing and program details.
URL:https://grandbendmotorplex.com/event/racer-5-motorcycle-development-school-10/
CATEGORIES:Raceway
END:VEVENT
BEGIN:VEVENT
DTSTART;TZID=UTC:20260824T100000
DTEND;TZID=UTC:20260824T180000
DTSTAMP:20260421T030324
CREATED:20260106T203953Z
LAST-MODIFIED:20260309T214015Z
UID:10000686-1787565600-1787594400@grandbendmotorplex.com
SUMMARY:Ride 42 Motorcycle Track day
DESCRIPTION:Ride 42 Motorcycle road course track days run from 10am to 6pm with a lunch break. Registration and Information on the program is available at ride42.ca
URL:https://grandbendmotorplex.com/event/ride-42-motorcycle-track-day/2026-08-24/
CATEGORIES:Raceway
END:VEVENT
BEGIN:VEVENT
DTSTART;TZID=UTC:20260825T080000
DTEND;TZID=UTC:20260825T170000
DTSTAMP:20260421T030324
CREATED:20260122T185208Z
LAST-MODIFIED:20260122T185208Z
UID:10000836-1787644800-1787677200@grandbendmotorplex.com
SUMMARY:Road course available for rent
DESCRIPTION:
URL:https://grandbendmotorplex.com/event/road-course-available-for-rent-27/
CATEGORIES:Raceway
END:VEVENT
BEGIN:VEVENT
DTSTART;TZID=UTC:20260826T080000
DTEND;TZID=UTC:20260826T170000
DTSTAMP:20260421T030324
CREATED:20260220T183640Z
LAST-MODIFIED:20260220T183640Z
UID:10000856-1787731200-1787763600@grandbendmotorplex.com
SUMMARY:Serious Casual Motorsports
DESCRIPTION:Road course Motorcycle rental
URL:https://grandbendmotorplex.com/event/serious-casual-motorsports-4/
CATEGORIES:Raceway
END:VEVENT
BEGIN:VEVENT
DTSTART;TZID=UTC:20260826T163000
DTEND;TZID=UTC:20260826T203000
DTSTAMP:20260421T030324
CREATED:20260107T161404Z
LAST-MODIFIED:20260210T184315Z
UID:10000720-1787761800-1787776200@grandbendmotorplex.com
SUMMARY:Hully Gully "Two Wheel" Wednesday evening Motorcycle lapping
DESCRIPTION:Wednesday evening Motorcycle lapping program  . Three groups – Beginner (Green)\, Intermediate (Yellow) Advanced (red). Each group gets a 20 minute session per hour in rotation. Register at gbmpresales.com or call the track 519-238-7223.
URL:https://grandbendmotorplex.com/event/hully-gully-two-wheel-wednesday-evening-motorcycle-lapping-11/
CATEGORIES:Raceway
END:VEVENT
BEGIN:VEVENT
DTSTART;TZID=UTC:20260827T090000
DTEND;TZID=UTC:20260827T170000
DTSTAMP:20260421T030324
CREATED:20260122T183601Z
LAST-MODIFIED:20260122T183601Z
UID:10000816-1787821200-1787850000@grandbendmotorplex.com
SUMMARY:Road course available for rent ( Cars only)
DESCRIPTION:
URL:https://grandbendmotorplex.com/event/road-course-available-for-rent-cars-only-4/
CATEGORIES:Raceway
END:VEVENT
BEGIN:VEVENT
DTSTART;VALUE=DATE:20260828
DTEND;VALUE=DATE:20260831
DTSTAMP:20260421T030324
CREATED:20260106T210120Z
LAST-MODIFIED:20260106T210120Z
UID:10000703-1787875200-1788134399@grandbendmotorplex.com
SUMMARY:SOAR Motorcycle Race Series Weekend
DESCRIPTION:SOAR Motorcycle Race weekend –  Ontario’s premier motorcycle road course race series.  Friday is practice Day. Saturday & Sunday are race days. Information on the SOAR race series is available at soarracing.ca
URL:https://grandbendmotorplex.com/event/soar-motorcycle-race-series-weekend-5/
CATEGORIES:Raceway
END:VEVENT
BEGIN:VEVENT
DTSTART;TZID=UTC:20260831T100000
DTEND;TZID=UTC:20260831T180000
DTSTAMP:20260421T030324
CREATED:20260106T204819Z
LAST-MODIFIED:20260309T213808Z
UID:10000695-1788170400-1788199200@grandbendmotorplex.com
SUMMARY:KSR Motorcycle Track days
DESCRIPTION:Motorcycle road course track days hosted by KW Sport racing. 10am-6pm program. Registration and Information is available at ksrtrackdays.com
URL:https://grandbendmotorplex.com/event/ksr-motorcycle-track-days-11/2026-08-31/
CATEGORIES:Raceway
END:VEVENT
BEGIN:VEVENT
DTSTART;TZID=UTC:20260901T090000
DTEND;TZID=UTC:20260901T170000
DTSTAMP:20260421T030324
CREATED:20260112T163212Z
LAST-MODIFIED:20260415T215924Z
UID:10000752-1788253200-1788282000@grandbendmotorplex.com
SUMMARY:road course available for rent
DESCRIPTION:CCO rental if interested in joining them contact info Robert Hawn at vp.corvetteclubofontario.ca
URL:https://grandbendmotorplex.com/event/corvette-club-of-ontario-4/
CATEGORIES:Raceway
END:VEVENT
BEGIN:VEVENT
DTSTART;TZID=UTC:20260901T163000
DTEND;TZID=UTC:20260901T180000
DTSTAMP:20260421T030324
CREATED:20260310T143039Z
LAST-MODIFIED:20260310T143039Z
UID:10000866-1788280200-1788285600@grandbendmotorplex.com
SUMMARY:GRK Road course rental
DESCRIPTION:Gentlemen’s Race Karting road course rental.
URL:https://grandbendmotorplex.com/event/grk-road-course-rental-7/
CATEGORIES:Raceway
END:VEVENT
BEGIN:VEVENT
DTSTART;TZID=UTC:20260902T160000
DTEND;TZID=UTC:20260902T200000
DTSTAMP:20260421T030324
CREATED:20260106T202927Z
LAST-MODIFIED:20260106T202927Z
UID:10000672-1788364800-1788379200@grandbendmotorplex.com
SUMMARY:Whitelaw Automotive Wednesday evening Car lapping
DESCRIPTION:Car Lapping 5pm-9pm. Three groups – beginner (green)\, intermediate (yellow)\, advanced (red). Limited to 14 spots per group. Reserve a spot online at gbmpresales.com or call track 519-238-7223
URL:https://grandbendmotorplex.com/event/whitelaw-automotive-wednesday-evening-car-lapping-8/2026-09-02/
CATEGORIES:Raceway
END:VEVENT
BEGIN:VEVENT
DTSTART;TZID=UTC:20260907T110000
DTEND;TZID=UTC:20260907T170000
DTSTAMP:20260421T030324
CREATED:20260112T214055Z
LAST-MODIFIED:20260112T214055Z
UID:10000673-1788778800-1788800400@grandbendmotorplex.com
SUMMARY:Whitelaw Automotive Holiday Monday Daytime Car lapping program
DESCRIPTION:Car Lapping 11am-5pm. Three groups – beginner (green)\, intermediate (yellow)\, advanced (red). Limited to 14 spots per group. Reserve a spot online at gbmpresales.com or call track 519-238-7223
URL:https://grandbendmotorplex.com/event/whitelaw-automotive-wednesday-evening-car-lapping-8-4/
CATEGORIES:Raceway
END:VEVENT
BEGIN:VEVENT
DTSTART;TZID=UTC:20260908T080000
DTEND;TZID=UTC:20260908T170000
DTSTAMP:20260421T030324
CREATED:20260122T192143Z
LAST-MODIFIED:20260122T192143Z
UID:10000844-1788854400-1788886800@grandbendmotorplex.com
SUMMARY:Road course available for rent
DESCRIPTION:
URL:https://grandbendmotorplex.com/event/road-course-available-for-rent-35/
CATEGORIES:Raceway
END:VEVENT
END:VCALENDAR