BEGIN:VCALENDAR
VERSION:2.0
PRODID:-//Grand Bend Motorplex - ECPv6.5.1.5//NONSGML v1.0//EN
CALSCALE:GREGORIAN
METHOD:PUBLISH
X-WR-CALNAME:Grand Bend Motorplex
X-ORIGINAL-URL:https://grandbendmotorplex.com
X-WR-CALDESC:Events for Grand Bend Motorplex
REFRESH-INTERVAL;VALUE=DURATION:PT1H
X-Robots-Tag:noindex
X-PUBLISHED-TTL:PT1H
BEGIN:VTIMEZONE
TZID:UTC
BEGIN:STANDARD
TZOFFSETFROM:+0000
TZOFFSETTO:+0000
TZNAME:UTC
DTSTART:20240101T000000
END:STANDARD
END:VTIMEZONE
BEGIN:VEVENT
DTSTART;VALUE=DATE:20241002
DTEND;VALUE=DATE:20241003
DTSTAMP:20260421T002948
CREATED:20240614T183847Z
LAST-MODIFIED:20240614T183847Z
UID:10000398-1727827200-1727913599@grandbendmotorplex.com
SUMMARY:Wed Oct 2nd 9am-3:30pm Available\, Whitelaw Automotive Wednesday evening Car Lapping 3:45-7:45pm
DESCRIPTION:
URL:https://grandbendmotorplex.com/event/wed-oct-2nd-9am-330pm-available-whitelaw-automotive-wednesday-evening-car-lapping-345-745pm/
CATEGORIES:Event,October,Raceway
END:VEVENT
BEGIN:VEVENT
DTSTART;TZID=UTC:20241001T090000
DTEND;TZID=UTC:20241001T170000
DTSTAMP:20260421T002948
CREATED:20240614T183736Z
LAST-MODIFIED:20240614T183736Z
UID:10000397-1727773200-1727802000@grandbendmotorplex.com
SUMMARY:Tues Oct 1st –  Available 9am-5pm
DESCRIPTION:
URL:https://grandbendmotorplex.com/event/tues-oct-1st-available-9am-5pm/
CATEGORIES:Event,October,Raceway
END:VEVENT
BEGIN:VEVENT
DTSTART;VALUE=DATE:20241001
DTEND;VALUE=DATE:20241101
DTSTAMP:20260421T002948
CREATED:20240613T184159Z
LAST-MODIFIED:20240923T192838Z
UID:10000298-1727740800-1730419199@grandbendmotorplex.com
SUMMARY:OCTOBER
DESCRIPTION:Tues Oct 1st –  Available 9am-5pm\nWed Oct 2nd 9am-3:30pm Available\, Whitelaw Automotive Wednesday evening Car Lapping 3:45-7:45pm\nThurs Oct 3rd – M Davies group 9am-5pm\nFri Oct 4th- TBD\nSat Oct 5th –  Falcon Motorsports\nSun Oct 6th –  Available 9am-5pm\nMon Oct 7th – GRK Corporate day 9am- 5pm\nTues Oct 8th – GRK Corporate day 9am-5pm\nWed Oct 9th -9am-3;30pm M K rental\, Whitelaw Automotive Wednesday Evening Car Lapping  3:45-7:45pm\nThurs Oct 10th  – Available\nFri Oct 11th –  TBD\nSat Oct 12th – KSR Motorcycle Lapping day\nSun Oct 13th – Cdn Drift Series\nWed Oct 16th –  Kipp Edwards road course 10am-1pm\nFri October 18th – Adam Ghent road course 10am-1pm\nSat Oct 19th –  ONT Diesels Fall Show including T&T.\nSun Oct 20th –  Falcon Motorsports\nTues/Wed Oct 22nd/23rd  – GRK Corporate events + lapping\nSat/Sun Oct 26th/27th –  Topp Drift
URL:https://grandbendmotorplex.com/event/october/
CATEGORIES:Event,Raceway
END:VEVENT
BEGIN:VEVENT
DTSTART;TZID=UTC:20240930T090000
DTEND;TZID=UTC:20240930T170000
DTSTAMP:20260421T002948
CREATED:20240614T183545Z
LAST-MODIFIED:20240614T183545Z
UID:10000396-1727686800-1727715600@grandbendmotorplex.com
SUMMARY:Mon Sept 30th – OSR Motorcycle day 9am-5pm
DESCRIPTION:
URL:https://grandbendmotorplex.com/event/mon-sept-30th-osr-motorcycle-day-9am-5pm/
CATEGORIES:Event,Raceway,September
END:VEVENT
BEGIN:VEVENT
DTSTART;VALUE=DATE:20240928
DTEND;VALUE=DATE:20240930
DTSTAMP:20260421T002948
CREATED:20240614T183507Z
LAST-MODIFIED:20240614T183507Z
UID:10000395-1727481600-1727654399@grandbendmotorplex.com
SUMMARY:Sat/Sun Sept 28th/29th  – Championship wkd for SOAR Motorcycle series. (Layout TBD)
DESCRIPTION:
URL:https://grandbendmotorplex.com/event/sat-sun-sept-28th-29th-championship-wkd-for-soar-motorcycle-series-layout-tbd/
CATEGORIES:Event,Raceway,September
END:VEVENT
BEGIN:VEVENT
DTSTART;VALUE=DATE:20240927
DTEND;VALUE=DATE:20240928
DTSTAMP:20260421T002948
CREATED:20240614T183414Z
LAST-MODIFIED:20240614T183414Z
UID:10000394-1727395200-1727481599@grandbendmotorplex.com
SUMMARY:Fri Sept 27th –  SOAR Motorcycle practice day.
DESCRIPTION:
URL:https://grandbendmotorplex.com/event/fri-sept-27th-soar-motorcycle-practice-day/
CATEGORIES:Event,Raceway,September
END:VEVENT
BEGIN:VEVENT
DTSTART;TZID=UTC:20240926T090000
DTEND;TZID=UTC:20240926T170000
DTSTAMP:20260421T002948
CREATED:20240614T183334Z
LAST-MODIFIED:20240614T183334Z
UID:10000393-1727341200-1727370000@grandbendmotorplex.com
SUMMARY:Thurs Sept 26th – Available 9am-5pm
DESCRIPTION:
URL:https://grandbendmotorplex.com/event/thurs-sept-26th-available-9am-5pm/
CATEGORIES:Event,Raceway,September
END:VEVENT
BEGIN:VEVENT
DTSTART;VALUE=DATE:20240925
DTEND;VALUE=DATE:20240926
DTSTAMP:20260421T002948
CREATED:20240614T183227Z
LAST-MODIFIED:20240614T183227Z
UID:10000392-1727222400-1727308799@grandbendmotorplex.com
SUMMARY:Wed Sept 25th – 9am-3:30pm Available\, Whitelaw Automotive Wednesday Evening car Lapping 3:45-7:45pm
DESCRIPTION:
URL:https://grandbendmotorplex.com/event/wed-sept-25th-9am-330pm-available-whitelaw-automotive-wednesday-evening-car-lapping-345-745pm/
CATEGORIES:Event,Raceway,September
END:VEVENT
BEGIN:VEVENT
DTSTART;VALUE=DATE:20240924
DTEND;VALUE=DATE:20240925
DTSTAMP:20260421T002948
CREATED:20240614T182152Z
LAST-MODIFIED:20240614T182152Z
UID:10000391-1727136000-1727222399@grandbendmotorplex.com
SUMMARY:Tues Sept 24th –  Available 9am-4:30pm\, GRK Karting 4:30pm-6:30pm
DESCRIPTION:
URL:https://grandbendmotorplex.com/event/tues-sept-24th-available-9am-430pm-grk-karting-430pm-630pm/
CATEGORIES:Event,Raceway,September
END:VEVENT
BEGIN:VEVENT
DTSTART;TZID=UTC:20240923T100000
DTEND;TZID=UTC:20240923T180000
DTSTAMP:20260421T002948
CREATED:20240614T182115Z
LAST-MODIFIED:20240614T182115Z
UID:10000390-1727085600-1727114400@grandbendmotorplex.com
SUMMARY:Mon Sept 23rd –  KSR Motorcycle lapping day  10am-6pm
DESCRIPTION:
URL:https://grandbendmotorplex.com/event/mon-sept-23rd-ksr-motorcycle-lapping-day-10am-6pm/
CATEGORIES:Event,Raceway,September
END:VEVENT
BEGIN:VEVENT
DTSTART;VALUE=DATE:20240922
DTEND;VALUE=DATE:20240923
DTSTAMP:20260421T002948
CREATED:20240614T182033Z
LAST-MODIFIED:20240614T182033Z
UID:10000389-1726963200-1727049599@grandbendmotorplex.com
SUMMARY:Sun Sept 22nd – Grand Bend Festival of Speed
DESCRIPTION:
URL:https://grandbendmotorplex.com/event/sun-sept-22nd-grand-bend-festival-of-speed/
CATEGORIES:Event,Raceway,September
END:VEVENT
BEGIN:VEVENT
DTSTART;VALUE=DATE:20240921
DTEND;VALUE=DATE:20240922
DTSTAMP:20260421T002948
CREATED:20240614T181950Z
LAST-MODIFIED:20240614T181950Z
UID:10000388-1726876800-1726963199@grandbendmotorplex.com
SUMMARY:Sat Sept 21st – Grand Bend Festival of Speed
DESCRIPTION:
URL:https://grandbendmotorplex.com/event/sat-sept-21st-grand-bend-festival-of-speed/
CATEGORIES:Event,Raceway,September
END:VEVENT
BEGIN:VEVENT
DTSTART;VALUE=DATE:20240921
DTEND;VALUE=DATE:20240923
DTSTAMP:20260421T002948
CREATED:20240608T180815Z
LAST-MODIFIED:20240823T142732Z
UID:10000294-1726876800-1727049599@grandbendmotorplex.com
SUMMARY:Vintage Fest
DESCRIPTION:VintageFest on the road course. Details to be added shortly \n(WDRA Bracket Finals at Martin Mi – team of 50 points racers)
URL:https://grandbendmotorplex.com/event/fallfast/
CATEGORIES:Raceway
END:VEVENT
BEGIN:VEVENT
DTSTART;TZID=UTC:20240920T090000
DTEND;TZID=UTC:20240920T170000
DTSTAMP:20260421T002948
CREATED:20240614T181847Z
LAST-MODIFIED:20240820T201342Z
UID:10000387-1726822800-1726851600@grandbendmotorplex.com
SUMMARY:Fri Sept 20th  –  Available 9am-5pm
DESCRIPTION:
URL:https://grandbendmotorplex.com/event/fri-sept-20th-jessie-viray-9am-5pm/
CATEGORIES:Event,Raceway,September
END:VEVENT
BEGIN:VEVENT
DTSTART;VALUE=DATE:20240919
DTEND;VALUE=DATE:20240920
DTSTAMP:20260421T002948
CREATED:20240614T181805Z
LAST-MODIFIED:20240614T181805Z
UID:10000386-1726704000-1726790399@grandbendmotorplex.com
SUMMARY:Thurs Sept 19th  – RIDE42 Motorcycle day
DESCRIPTION:
URL:https://grandbendmotorplex.com/event/thurs-sept-19th-ride42-motorcycle-day/
CATEGORIES:Event,Raceway,September
END:VEVENT
BEGIN:VEVENT
DTSTART;VALUE=DATE:20240918
DTEND;VALUE=DATE:20240919
DTSTAMP:20260421T002948
CREATED:20240614T181653Z
LAST-MODIFIED:20240614T181653Z
UID:10000385-1726617600-1726703999@grandbendmotorplex.com
SUMMARY:Wed Sept 18th 9am-4pm Mike K rental\, Hully Gully “Two Wheel Wednesday” Evening Motorcycle Lapping 4-8pm
DESCRIPTION:
URL:https://grandbendmotorplex.com/event/wed-sept-18th-9am-4pm-mike-k-rental-hully-gully-two-wheel-wednesday-evening-motorcycle-lapping-4-8pm/
CATEGORIES:Event,Raceway,September
END:VEVENT
BEGIN:VEVENT
DTSTART;TZID=UTC:20240917T110000
DTEND;TZID=UTC:20240917T140000
DTSTAMP:20260421T002948
CREATED:20240614T181607Z
LAST-MODIFIED:20240614T181607Z
UID:10000384-1726570800-1726581600@grandbendmotorplex.com
SUMMARY:Tues Sept 17th –  Corvette Club of Ontario 11am-2pm
DESCRIPTION:
URL:https://grandbendmotorplex.com/event/tues-sept-17th-corvette-club-of-ontario-11am-2pm/
CATEGORIES:Event,Raceway,September
END:VEVENT
BEGIN:VEVENT
DTSTART;TZID=UTC:20240916T100000
DTEND;TZID=UTC:20240916T180000
DTSTAMP:20260421T002948
CREATED:20240614T181520Z
LAST-MODIFIED:20240614T181520Z
UID:10000383-1726480800-1726509600@grandbendmotorplex.com
SUMMARY:Mon Sept 16th –  KSR Motorcycle Lapping day 10am-6pm
DESCRIPTION:
URL:https://grandbendmotorplex.com/event/mon-sept-16th-ksr-motorcycle-lapping-day-10am-6pm/
CATEGORIES:Event,Raceway,September
END:VEVENT
BEGIN:VEVENT
DTSTART;TZID=UTC:20240915T080000
DTEND;TZID=UTC:20240915T170000
DTSTAMP:20260421T002948
CREATED:20240823T123218Z
LAST-MODIFIED:20240903T200313Z
UID:10000425-1726387200-1726419600@grandbendmotorplex.com
SUMMARY:ONTARIO TEAM FINALS
DESCRIPTION:A new Team styled event similar to the Ontario Bracket Finals\, but with individual teams of 10 racers from any of the 4 classes running that day\, instead of track based teams. The Winning team will receive $1000 in cash and Champions jackets.
URL:https://grandbendmotorplex.com/event/ontario-team-finals-2/
CATEGORIES:Dragway
END:VEVENT
BEGIN:VEVENT
DTSTART;VALUE=DATE:20240913
DTEND;VALUE=DATE:20240916
DTSTAMP:20260421T002948
CREATED:20240823T122634Z
LAST-MODIFIED:20240903T203532Z
UID:10000424-1726185600-1726444799@grandbendmotorplex.com
SUMMARY:FALLFAST
DESCRIPTION:The Final BIG $$ drag race of the year! Box/No Box Highroller races. Juniors\, & Bike/Sled – the biggest bracket payouts of the year! (ONDR program on Saturday has been moved to Sept  7th at St Thomas) Fri $15\, Sat $30\, Sun $25\, Wkd $65 ( $75 with camping) Kids 6-15 $5/day \nRacer/Crew Appreciation dinner Sat night.  O’Tooles Golf cart race Championship Friday night. \nBox/No Box –  Sat $2000-$750 – $350-$150   Sun –  $2500\, $750\, $350 – $150  Entry $125 Sat\, $150 Sun\, $250 Sat & Sun\, Buybacks $50 rd 1 or 2 ( minimum 45 entries) 50 entries and over adds $500 to winner. Sportsman cars run separately until down to one and cross over \nBike/Sled –  Sat $1000-$500-$300-$150   Sun – $1500-$500-$300-$150   Entry $125 Sat\, $150 Sun – $250 Sat & Sun\, Buybacks $50 rd 1 or 2 (minimum 35 entries) 40 entries and over adds $500 to winner \nJunior –  Sat $85\, Sun $100 Sat & Sun $175 Sat –  $600-$400-$200  Sun – $800\,$400\, $200  Buybacks $20 rd 1  Consolation race $20 after rd 2 ( minimum 20 entries) \nONTARIO BRACKET FINALS SATURDAY –  Make a team of 10 racers from the 4 classes ( any combination) points are based on round wins ( buybacks rounds not included). The winning team will receive $1000 in Cash and Champions Jackets ! \n 
URL:https://grandbendmotorplex.com/event/fallfast-2/
CATEGORIES:Dragway,September
ATTACH;FMTTYPE=image/png:https://grandbendmotorplex.com/wp-content/uploads/2024/08/Fallfast-2024.png
END:VEVENT
BEGIN:VEVENT
DTSTART;VALUE=DATE:20240913
DTEND;VALUE=DATE:20240916
DTSTAMP:20260421T002948
CREATED:20240614T181259Z
LAST-MODIFIED:20240614T181259Z
UID:10000382-1726185600-1726444799@grandbendmotorplex.com
SUMMARY:Fri – Sun Sept 13/15th Racer 5 Motorcycle development (register at racer5.ca)
DESCRIPTION:
URL:https://grandbendmotorplex.com/event/fri-sun-sept-13-15th-racer-5-motorcycle-development-register-at-racer5-ca/
CATEGORIES:Event,Raceway,September
END:VEVENT
BEGIN:VEVENT
DTSTART;TZID=UTC:20240912T090000
DTEND;TZID=UTC:20240912T170000
DTSTAMP:20260421T002948
CREATED:20240614T181205Z
LAST-MODIFIED:20240614T181205Z
UID:10000381-1726131600-1726160400@grandbendmotorplex.com
SUMMARY:Thurs Sept 12th- M Davies group 9am-5pm
DESCRIPTION:
URL:https://grandbendmotorplex.com/event/thurs-sept-12th-m-davies-group-9am-5pm/
CATEGORIES:Event,Raceway,September
END:VEVENT
BEGIN:VEVENT
DTSTART;VALUE=DATE:20240911
DTEND;VALUE=DATE:20240912
DTSTAMP:20260421T002948
CREATED:20240614T181129Z
LAST-MODIFIED:20240826T154840Z
UID:10000380-1726012800-1726099199@grandbendmotorplex.com
SUMMARY:Wed Sept 11th 9am-3:30pm Can Am RV Centre\, Whitelaw Automotive Wednesday Evening Car Lapping 4-8pm
DESCRIPTION:
URL:https://grandbendmotorplex.com/event/wed-sept-11th-9am-345pm-available-whitelaw-automotive-wednesday-evening-car-lapping-4-8pm/
CATEGORIES:Event,Raceway,September
END:VEVENT
BEGIN:VEVENT
DTSTART;VALUE=DATE:20240910
DTEND;VALUE=DATE:20240911
DTSTAMP:20260421T002948
CREATED:20240614T180620Z
LAST-MODIFIED:20240614T180620Z
UID:10000379-1725926400-1726012799@grandbendmotorplex.com
SUMMARY:Tues Sept 10th  -9am-4:30pm D Webber\, GRK Karting 4:30pm-6;30pm
DESCRIPTION:
URL:https://grandbendmotorplex.com/event/tues-sept-10th-9am-430pm-d-webber-grk-karting-430pm-630pm/
CATEGORIES:Event,Raceway,September
END:VEVENT
BEGIN:VEVENT
DTSTART;TZID=UTC:20240909T090000
DTEND;TZID=UTC:20240909T170000
DTSTAMP:20260421T002948
CREATED:20240614T180539Z
LAST-MODIFIED:20240614T180539Z
UID:10000378-1725872400-1725901200@grandbendmotorplex.com
SUMMARY:Mon Sept 9th – Elite 9am-5pm
DESCRIPTION:
URL:https://grandbendmotorplex.com/event/mon-sept-9th-elite-9am-5pm/
CATEGORIES:Event,Raceway,September
END:VEVENT
BEGIN:VEVENT
DTSTART;VALUE=DATE:20240907
DTEND;VALUE=DATE:20240909
DTSTAMP:20260421T002948
CREATED:20240614T180237Z
LAST-MODIFIED:20240614T180237Z
UID:10000377-1725667200-1725839999@grandbendmotorplex.com
SUMMARY:Sat/Sun Sept 7/8th SOAR Motorcycle race series Race #5 (Screaming Alien Layout)
DESCRIPTION:
URL:https://grandbendmotorplex.com/event/sat-sun-sept-7-8th-soar-motorcycle-race-series-race-5-screaming-alien-layout/
CATEGORIES:Event,Raceway,September
END:VEVENT
BEGIN:VEVENT
DTSTART;VALUE=DATE:20240906
DTEND;VALUE=DATE:20240907
DTSTAMP:20260421T002948
CREATED:20240614T175921Z
LAST-MODIFIED:20240614T175921Z
UID:10000376-1725580800-1725667199@grandbendmotorplex.com
SUMMARY:Fri Sept 6th SOAR race practice
DESCRIPTION:
URL:https://grandbendmotorplex.com/event/fri-sept-6th-soar-race-practice/
CATEGORIES:Event,Raceway,September
END:VEVENT
BEGIN:VEVENT
DTSTART;TZID=UTC:20240905T090000
DTEND;TZID=UTC:20240905T170000
DTSTAMP:20260421T002948
CREATED:20240614T171036Z
LAST-MODIFIED:20240828T135219Z
UID:10000375-1725526800-1725555600@grandbendmotorplex.com
SUMMARY:Thurs Sept 5th – Available 9am-12pm\, 12pm-4pm All Steel rental
DESCRIPTION:
URL:https://grandbendmotorplex.com/event/thurs-sept-5th-available-9am-5pm/
CATEGORIES:Event,Raceway,September
END:VEVENT
BEGIN:VEVENT
DTSTART;VALUE=DATE:20240904
DTEND;VALUE=DATE:20240905
DTSTAMP:20260421T002948
CREATED:20240614T170950Z
LAST-MODIFIED:20240614T170950Z
UID:10000374-1725408000-1725494399@grandbendmotorplex.com
SUMMARY:Wed Sept 4th – 9am-3;30pm Available\, Hully Gully “Two Wheel Wednesday” Evening Bike Lapping 4-8pm
DESCRIPTION:
URL:https://grandbendmotorplex.com/event/wed-sept-4th-9am-330pm-available-hully-gully-two-wheel-wednesday-evening-bike-lapping-4-8pm/
CATEGORIES:Event,Raceway,September
END:VEVENT
BEGIN:VEVENT
DTSTART;VALUE=DATE:20240903
DTEND;VALUE=DATE:20240904
DTSTAMP:20260421T002948
CREATED:20240614T170903Z
LAST-MODIFIED:20240614T170903Z
UID:10000373-1725321600-1725407999@grandbendmotorplex.com
SUMMARY:Tues Sept 3rd – RIDE42 Motorcycle day
DESCRIPTION:
URL:https://grandbendmotorplex.com/event/tues-sept-3rd-ride42-motorcycle-day/
CATEGORIES:Event,Raceway,September
END:VEVENT
END:VCALENDAR